BEGIN:VCALENDAR
VERSION:2.0
PRODID:-//Redeemer Lutheran Church - Pensacola - ECPv6.15.17.1//NONSGML v1.0//EN
CALSCALE:GREGORIAN
METHOD:PUBLISH
X-ORIGINAL-URL:https://www.redeemerlutheranpensacola.com
X-WR-CALDESC:Events for Redeemer Lutheran Church - Pensacola
REFRESH-INTERVAL;VALUE=DURATION:PT1H
X-Robots-Tag:noindex
X-PUBLISHED-TTL:PT1H
BEGIN:VTIMEZONE
TZID:America/Chicago
BEGIN:DAYLIGHT
TZOFFSETFROM:-0600
TZOFFSETTO:-0500
TZNAME:CDT
DTSTART:20240310T080000
END:DAYLIGHT
BEGIN:STANDARD
TZOFFSETFROM:-0500
TZOFFSETTO:-0600
TZNAME:CST
DTSTART:20241103T070000
END:STANDARD
BEGIN:DAYLIGHT
TZOFFSETFROM:-0600
TZOFFSETTO:-0500
TZNAME:CDT
DTSTART:20250309T080000
END:DAYLIGHT
BEGIN:STANDARD
TZOFFSETFROM:-0500
TZOFFSETTO:-0600
TZNAME:CST
DTSTART:20251102T070000
END:STANDARD
BEGIN:DAYLIGHT
TZOFFSETFROM:-0600
TZOFFSETTO:-0500
TZNAME:CDT
DTSTART:20260308T080000
END:DAYLIGHT
BEGIN:STANDARD
TZOFFSETFROM:-0500
TZOFFSETTO:-0600
TZNAME:CST
DTSTART:20261101T070000
END:STANDARD
END:VTIMEZONE
BEGIN:VEVENT
DTSTART;TZID=America/Chicago:20250922T110000
DTEND;TZID=America/Chicago:20250922T120000
DTSTAMP:20260419T224654
CREATED:20250916T054239Z
LAST-MODIFIED:20250916T054239Z
UID:10000017-1758538800-1758542400@www.redeemerlutheranpensacola.com
SUMMARY:Geometry in AH
DESCRIPTION:
URL:https://www.redeemerlutheranpensacola.com/event/geometry-in-ah-4
LOCATION:Redeemer Lutheran Church and School\, 333 Commerce St.\, Pensacola\, FL\, 32507\, United States
CATEGORIES:School Events
END:VEVENT
BEGIN:VEVENT
DTSTART;TZID=America/Chicago:20250921T093000
DTEND;TZID=America/Chicago:20250921T093000
DTSTAMP:20260419T224654
CREATED:20250916T054238Z
LAST-MODIFIED:20250916T054238Z
UID:10000016-1758447000-1758447000@www.redeemerlutheranpensacola.com
SUMMARY:Sunday Worship
DESCRIPTION:
URL:https://www.redeemerlutheranpensacola.com/event/sunday-worship
LOCATION:Redeemer Lutheran Church and School\, 333 Commerce St.\, Pensacola\, FL\, 32507\, United States
CATEGORIES:Church Events
END:VEVENT
BEGIN:VEVENT
DTSTART;TZID=America/Chicago:20250919T183000
DTEND;TZID=America/Chicago:20250919T220000
DTSTAMP:20260419T224654
CREATED:20250916T054237Z
LAST-MODIFIED:20250916T054237Z
UID:10000014-1758306600-1758319200@www.redeemerlutheranpensacola.com
SUMMARY:Middle School Dance in AH
DESCRIPTION:
URL:https://www.redeemerlutheranpensacola.com/event/middle-school-dance-in-ah
LOCATION:Redeemer Lutheran Church and School\, 333 Commerce St.\, Pensacola\, FL\, 32507\, United States
CATEGORIES:School Events
END:VEVENT
BEGIN:VEVENT
DTSTART;TZID=America/Chicago:20250919T110000
DTEND;TZID=America/Chicago:20250919T120000
DTSTAMP:20260419T224654
CREATED:20250916T054038Z
LAST-MODIFIED:20250916T054038Z
UID:10000013-1758279600-1758283200@www.redeemerlutheranpensacola.com
SUMMARY:Geometry in AH
DESCRIPTION:
URL:https://www.redeemerlutheranpensacola.com/event/geometry-in-ah-3
LOCATION:Redeemer Lutheran Church and School\, 333 Commerce St.\, Pensacola\, FL\, 32507\, United States
CATEGORIES:School Events
END:VEVENT
BEGIN:VEVENT
DTSTART;TZID=America/Chicago:20250918T160000
DTEND;TZID=America/Chicago:20250918T160000
DTSTAMP:20260419T224654
CREATED:20250916T054037Z
LAST-MODIFIED:20250916T054037Z
UID:10000012-1758211200-1758211200@www.redeemerlutheranpensacola.com
SUMMARY:B.O.C.E. in AH
DESCRIPTION:
URL:https://www.redeemerlutheranpensacola.com/event/b-o-c-e-in-ah
LOCATION:Redeemer Lutheran Church and School\, 333 Commerce St.\, Pensacola\, FL\, 32507\, United States
CATEGORIES:Church Events
END:VEVENT
BEGIN:VEVENT
DTSTART;VALUE=DATE:20250918
DTEND;VALUE=DATE:20250919
DTSTAMP:20260419T224654
CREATED:20250916T054036Z
LAST-MODIFIED:20250916T054036Z
UID:10000009-1758153600-1758239999@www.redeemerlutheranpensacola.com
SUMMARY:Setup for Middle School Dance in AH
DESCRIPTION:
URL:https://www.redeemerlutheranpensacola.com/event/setup-for-middle-school-dance-in-ah
LOCATION:Redeemer Lutheran Church and School\, 333 Commerce St.\, Pensacola\, FL\, 32507\, United States
CATEGORIES:School Events
END:VEVENT
BEGIN:VEVENT
DTSTART;TZID=America/Chicago:20250917T110000
DTEND;TZID=America/Chicago:20250917T120000
DTSTAMP:20260419T224654
CREATED:20250916T054033Z
LAST-MODIFIED:20250916T054033Z
UID:10000008-1758106800-1758110400@www.redeemerlutheranpensacola.com
SUMMARY:Geometry in AH
DESCRIPTION:
URL:https://www.redeemerlutheranpensacola.com/event/geometry-in-ah-2
LOCATION:Redeemer Lutheran Church and School\, 333 Commerce St.\, Pensacola\, FL\, 32507\, United States
CATEGORIES:School Events
END:VEVENT
BEGIN:VEVENT
DTSTART;TZID=America/Chicago:20250917T082500
DTEND;TZID=America/Chicago:20250917T082500
DTSTAMP:20260419T224654
CREATED:20250916T054032Z
LAST-MODIFIED:20250916T054032Z
UID:10000007-1758097500-1758097500@www.redeemerlutheranpensacola.com
SUMMARY:Chapel
DESCRIPTION:
URL:https://www.redeemerlutheranpensacola.com/event/chapel
LOCATION:Redeemer Lutheran Church and School\, 333 Commerce St.\, Pensacola\, FL\, 32507\, United States
CATEGORIES:School Events
END:VEVENT
BEGIN:VEVENT
DTSTART;TZID=America/Chicago:20250916T093000
DTEND;TZID=America/Chicago:20250916T093000
DTSTAMP:20260419T224654
CREATED:20250916T054032Z
LAST-MODIFIED:20250916T054032Z
UID:10000006-1758015000-1758015000@www.redeemerlutheranpensacola.com
SUMMARY:Ladies Bible Study in AH
DESCRIPTION:
URL:https://www.redeemerlutheranpensacola.com/event/ladies-bible-study-in-ah
LOCATION:Redeemer Lutheran Church and School\, 333 Commerce St.\, Pensacola\, FL\, 32507\, United States
CATEGORIES:Church Events
END:VEVENT
BEGIN:VEVENT
DTSTART;TZID=America/Chicago:20250915T151500
DTEND;TZID=America/Chicago:20250915T154500
DTSTAMP:20260419T224654
CREATED:20250916T054031Z
LAST-MODIFIED:20250916T054031Z
UID:10000005-1757949300-1757951100@www.redeemerlutheranpensacola.com
SUMMARY:Little Lambs
DESCRIPTION:
URL:https://www.redeemerlutheranpensacola.com/event/little-lambs
LOCATION:Redeemer Lutheran Church and School\, 333 Commerce St.\, Pensacola\, FL\, 32507\, United States
CATEGORIES:Church Events
END:VEVENT
BEGIN:VEVENT
DTSTART;TZID=America/Chicago:20250915T110000
DTEND;TZID=America/Chicago:20250915T120000
DTSTAMP:20260419T224654
CREATED:20250916T054031Z
LAST-MODIFIED:20250916T054031Z
UID:10000004-1757934000-1757937600@www.redeemerlutheranpensacola.com
SUMMARY:Geometry in AH
DESCRIPTION:
URL:https://www.redeemerlutheranpensacola.com/event/geometry-in-ah
LOCATION:Redeemer Lutheran Church and School\, 333 Commerce St.\, Pensacola\, FL\, 32507\, United States
CATEGORIES:School Events
END:VEVENT
END:VCALENDAR