BEGIN:VCALENDAR
VERSION:2.0
PRODID:-//Redeemer Lutheran Church - Pensacola - ECPv6.15.17.1//NONSGML v1.0//EN
CALSCALE:GREGORIAN
METHOD:PUBLISH
X-WR-CALNAME:Redeemer Lutheran Church - Pensacola
X-ORIGINAL-URL:https://www.redeemerlutheranpensacola.com
X-WR-CALDESC:Events for Redeemer Lutheran Church - Pensacola
REFRESH-INTERVAL;VALUE=DURATION:PT1H
X-Robots-Tag:noindex
X-PUBLISHED-TTL:PT1H
BEGIN:VTIMEZONE
TZID:America/Chicago
BEGIN:DAYLIGHT
TZOFFSETFROM:-0600
TZOFFSETTO:-0500
TZNAME:CDT
DTSTART:20240310T080000
END:DAYLIGHT
BEGIN:STANDARD
TZOFFSETFROM:-0500
TZOFFSETTO:-0600
TZNAME:CST
DTSTART:20241103T070000
END:STANDARD
BEGIN:DAYLIGHT
TZOFFSETFROM:-0600
TZOFFSETTO:-0500
TZNAME:CDT
DTSTART:20250309T080000
END:DAYLIGHT
BEGIN:STANDARD
TZOFFSETFROM:-0500
TZOFFSETTO:-0600
TZNAME:CST
DTSTART:20251102T070000
END:STANDARD
BEGIN:DAYLIGHT
TZOFFSETFROM:-0600
TZOFFSETTO:-0500
TZNAME:CDT
DTSTART:20260308T080000
END:DAYLIGHT
BEGIN:STANDARD
TZOFFSETFROM:-0500
TZOFFSETTO:-0600
TZNAME:CST
DTSTART:20261101T070000
END:STANDARD
END:VTIMEZONE
BEGIN:VEVENT
DTSTART;TZID=America/Chicago:20251012T110000
DTEND;TZID=America/Chicago:20251012T140000
DTSTAMP:20260419T190431
CREATED:20250916T054753Z
LAST-MODIFIED:20250916T054753Z
UID:10000045-1760266800-1760277600@www.redeemerlutheranpensacola.com
SUMMARY:Camp Dixie Chicken Dinner
DESCRIPTION:
URL:https://www.redeemerlutheranpensacola.com/event/camp-dixie-chicken-dinner
LOCATION:Camp Dixie\, 29711 Josephine Drive\, Elberta\, AL\, 36530\, United States
CATEGORIES:Church Events
END:VEVENT
BEGIN:VEVENT
DTSTART;VALUE=DATE:20251013
DTEND;VALUE=DATE:20251014
DTSTAMP:20260419T190431
CREATED:20250916T054755Z
LAST-MODIFIED:20250916T054755Z
UID:10000047-1760313600-1760399999@www.redeemerlutheranpensacola.com
SUMMARY:No School due to holiday
DESCRIPTION:
URL:https://www.redeemerlutheranpensacola.com/event/no-school-due-to-holiday
LOCATION:Redeemer Lutheran Church and School\, 333 Commerce St.\, Pensacola\, FL\, 32507\, United States
CATEGORIES:School Events
END:VEVENT
BEGIN:VEVENT
DTSTART;TZID=America/Chicago:20251013T180000
DTEND;TZID=America/Chicago:20251013T180000
DTSTAMP:20260419T190431
CREATED:20250916T054755Z
LAST-MODIFIED:20250916T054755Z
UID:10000048-1760378400-1760378400@www.redeemerlutheranpensacola.com
SUMMARY:Church Council in AH
DESCRIPTION:
URL:https://www.redeemerlutheranpensacola.com/event/church-council-in-ah
LOCATION:Redeemer Lutheran Church and School\, 333 Commerce St.\, Pensacola\, FL\, 32507\, United States
CATEGORIES:Church Events
END:VEVENT
BEGIN:VEVENT
DTSTART;TZID=America/Chicago:20251015T070000
DTEND;TZID=America/Chicago:20251015T070000
DTSTAMP:20260419T190431
CREATED:20250916T054815Z
LAST-MODIFIED:20251001T011244Z
UID:10000052-1760511600-1760511600@www.redeemerlutheranpensacola.com
SUMMARY:MBB @ Crazy Horse Cafe
DESCRIPTION:
URL:https://www.redeemerlutheranpensacola.com/event/mens-breakfast-bible-study-the-gathering-5
CATEGORIES:Church Events
END:VEVENT
BEGIN:VEVENT
DTSTART;TZID=America/Chicago:20251015T082500
DTEND;TZID=America/Chicago:20251015T082500
DTSTAMP:20260419T190431
CREATED:20250916T054813Z
LAST-MODIFIED:20250916T054813Z
UID:10000049-1760516700-1760516700@www.redeemerlutheranpensacola.com
SUMMARY:Chapel
DESCRIPTION:
URL:https://www.redeemerlutheranpensacola.com/event/chapel-5
LOCATION:Redeemer Lutheran Church and School\, 333 Commerce St.\, Pensacola\, FL\, 32507\, United States
CATEGORIES:School Events
END:VEVENT
BEGIN:VEVENT
DTSTART;TZID=America/Chicago:20251015T110000
DTEND;TZID=America/Chicago:20251015T120000
DTSTAMP:20260419T190431
CREATED:20250916T054814Z
LAST-MODIFIED:20250916T054814Z
UID:10000050-1760526000-1760529600@www.redeemerlutheranpensacola.com
SUMMARY:Geometry in AH
DESCRIPTION:
URL:https://www.redeemerlutheranpensacola.com/event/geometry-in-ah-12
LOCATION:Redeemer Lutheran Church and School\, 333 Commerce St.\, Pensacola\, FL\, 32507\, United States
CATEGORIES:School Events
END:VEVENT
BEGIN:VEVENT
DTSTART;TZID=America/Chicago:20251015T151500
DTEND;TZID=America/Chicago:20251015T154500
DTSTAMP:20260419T190431
CREATED:20250916T054815Z
LAST-MODIFIED:20250916T054815Z
UID:10000051-1760541300-1760543100@www.redeemerlutheranpensacola.com
SUMMARY:Little Lambs
DESCRIPTION:
URL:https://www.redeemerlutheranpensacola.com/event/little-lambs-5
LOCATION:Redeemer Lutheran Church and School\, 333 Commerce St.\, Pensacola\, FL\, 32507\, United States
CATEGORIES:Church Events
END:VEVENT
BEGIN:VEVENT
DTSTART;TZID=America/Chicago:20251016T160000
DTEND;TZID=America/Chicago:20251016T160000
DTSTAMP:20260419T190431
CREATED:20250916T054816Z
LAST-MODIFIED:20250916T054816Z
UID:10000053-1760630400-1760630400@www.redeemerlutheranpensacola.com
SUMMARY:B.O.C.E. in AH
DESCRIPTION:
URL:https://www.redeemerlutheranpensacola.com/event/b-o-c-e-in-ah-2
LOCATION:Redeemer Lutheran Church and School\, 333 Commerce St.\, Pensacola\, FL\, 32507\, United States
CATEGORIES:Church Events
END:VEVENT
BEGIN:VEVENT
DTSTART;TZID=America/Chicago:20251017T110000
DTEND;TZID=America/Chicago:20251017T120000
DTSTAMP:20260419T190431
CREATED:20250916T054833Z
LAST-MODIFIED:20250916T054833Z
UID:10000054-1760698800-1760702400@www.redeemerlutheranpensacola.com
SUMMARY:Geometry in AH
DESCRIPTION:
URL:https://www.redeemerlutheranpensacola.com/event/geometry-in-ah-13
LOCATION:Redeemer Lutheran Church and School\, 333 Commerce St.\, Pensacola\, FL\, 32507\, United States
CATEGORIES:School Events
END:VEVENT
BEGIN:VEVENT
DTSTART;TZID=America/Chicago:20251019T081500
DTEND;TZID=America/Chicago:20251019T081500
DTSTAMP:20260419T190431
CREATED:20250916T054834Z
LAST-MODIFIED:20250916T054834Z
UID:10000055-1760861700-1760861700@www.redeemerlutheranpensacola.com
SUMMARY:Adult Bible Studies & Children's Sunday School
DESCRIPTION:
URL:https://www.redeemerlutheranpensacola.com/event/adult-bible-studies-childrens-sunday-school-5
CATEGORIES:Church Events
END:VEVENT
BEGIN:VEVENT
DTSTART;TZID=America/Chicago:20251019T093000
DTEND;TZID=America/Chicago:20251019T093000
DTSTAMP:20260419T190431
CREATED:20250916T054835Z
LAST-MODIFIED:20250916T054835Z
UID:10000056-1760866200-1760866200@www.redeemerlutheranpensacola.com
SUMMARY:Sunday Worship
DESCRIPTION:
URL:https://www.redeemerlutheranpensacola.com/event/sunday-worship-4
LOCATION:Redeemer Lutheran Church and School\, 333 Commerce St.\, Pensacola\, FL\, 32507\, United States
CATEGORIES:Church Events
END:VEVENT
BEGIN:VEVENT
DTSTART;TZID=America/Chicago:20251020T110000
DTEND;TZID=America/Chicago:20251020T120000
DTSTAMP:20260419T190431
CREATED:20250916T054835Z
LAST-MODIFIED:20250916T054835Z
UID:10000057-1760958000-1760961600@www.redeemerlutheranpensacola.com
SUMMARY:Geometry in AH
DESCRIPTION:
URL:https://www.redeemerlutheranpensacola.com/event/geometry-in-ah-14
LOCATION:Redeemer Lutheran Church and School\, 333 Commerce St.\, Pensacola\, FL\, 32507\, United States
CATEGORIES:School Events
END:VEVENT
BEGIN:VEVENT
DTSTART;TZID=America/Chicago:20251020T151500
DTEND;TZID=America/Chicago:20251020T154500
DTSTAMP:20260419T190431
CREATED:20250916T054836Z
LAST-MODIFIED:20250916T054836Z
UID:10000058-1760973300-1760975100@www.redeemerlutheranpensacola.com
SUMMARY:Little Lambs
DESCRIPTION:
URL:https://www.redeemerlutheranpensacola.com/event/little-lambs-6
LOCATION:Redeemer Lutheran Church and School\, 333 Commerce St.\, Pensacola\, FL\, 32507\, United States
CATEGORIES:Church Events
END:VEVENT
BEGIN:VEVENT
DTSTART;TZID=America/Chicago:20251021T093000
DTEND;TZID=America/Chicago:20251021T093000
DTSTAMP:20260419T190431
CREATED:20250916T054839Z
LAST-MODIFIED:20250916T054839Z
UID:10000059-1761039000-1761039000@www.redeemerlutheranpensacola.com
SUMMARY:Ladies Bible Study in AH
DESCRIPTION:
URL:https://www.redeemerlutheranpensacola.com/event/ladies-bible-study-in-ah-3
LOCATION:Redeemer Lutheran Church and School\, 333 Commerce St.\, Pensacola\, FL\, 32507\, United States
CATEGORIES:Church Events
END:VEVENT
BEGIN:VEVENT
DTSTART;TZID=America/Chicago:20251022T070000
DTEND;TZID=America/Chicago:20251022T070000
DTSTAMP:20260419T190431
CREATED:20250916T054842Z
LAST-MODIFIED:20251001T011249Z
UID:10000063-1761116400-1761116400@www.redeemerlutheranpensacola.com
SUMMARY:MBB @ Crazy Horse Cafe
DESCRIPTION:
URL:https://www.redeemerlutheranpensacola.com/event/mens-breakfast-bible-study-the-gathering-6
CATEGORIES:Church Events
END:VEVENT
BEGIN:VEVENT
DTSTART;TZID=America/Chicago:20251022T082500
DTEND;TZID=America/Chicago:20251022T082500
DTSTAMP:20260419T190431
CREATED:20250916T054840Z
LAST-MODIFIED:20250916T054840Z
UID:10000060-1761121500-1761121500@www.redeemerlutheranpensacola.com
SUMMARY:Chapel
DESCRIPTION:
URL:https://www.redeemerlutheranpensacola.com/event/chapel-6
LOCATION:Redeemer Lutheran Church and School\, 333 Commerce St.\, Pensacola\, FL\, 32507\, United States
CATEGORIES:School Events
END:VEVENT
BEGIN:VEVENT
DTSTART;TZID=America/Chicago:20251022T110000
DTEND;TZID=America/Chicago:20251022T120000
DTSTAMP:20260419T190431
CREATED:20250916T054841Z
LAST-MODIFIED:20250916T054841Z
UID:10000061-1761130800-1761134400@www.redeemerlutheranpensacola.com
SUMMARY:Geometry in AH
DESCRIPTION:
URL:https://www.redeemerlutheranpensacola.com/event/geometry-in-ah-15
LOCATION:Redeemer Lutheran Church and School\, 333 Commerce St.\, Pensacola\, FL\, 32507\, United States
CATEGORIES:School Events
END:VEVENT
BEGIN:VEVENT
DTSTART;TZID=America/Chicago:20251022T180000
DTEND;TZID=America/Chicago:20251022T180000
DTSTAMP:20260419T190431
CREATED:20251016T152422Z
LAST-MODIFIED:20251016T152422Z
UID:10000263-1761156000-1761156000@www.redeemerlutheranpensacola.com
SUMMARY:Adult Choir Rehearsal
DESCRIPTION:
URL:https://www.redeemerlutheranpensacola.com/event/adult-choir-rehearsal
END:VEVENT
BEGIN:VEVENT
DTSTART;VALUE=DATE:20251023
DTEND;VALUE=DATE:20251024
DTSTAMP:20260419T190431
CREATED:20250916T054841Z
LAST-MODIFIED:20250916T054841Z
UID:10000062-1761177600-1761263999@www.redeemerlutheranpensacola.com
SUMMARY:Half Day/Parent-Teacher Conferences
DESCRIPTION:
URL:https://www.redeemerlutheranpensacola.com/event/half-day-parent-teacher-conferences
CATEGORIES:School Events
END:VEVENT
BEGIN:VEVENT
DTSTART;TZID=America/Chicago:20251024T110000
DTEND;TZID=America/Chicago:20251024T120000
DTSTAMP:20260419T190431
CREATED:20250916T054853Z
LAST-MODIFIED:20250916T054853Z
UID:10000064-1761303600-1761307200@www.redeemerlutheranpensacola.com
SUMMARY:Geometry in AH
DESCRIPTION:
URL:https://www.redeemerlutheranpensacola.com/event/geometry-in-ah-16
LOCATION:Redeemer Lutheran Church and School\, 333 Commerce St.\, Pensacola\, FL\, 32507\, United States
CATEGORIES:School Events
END:VEVENT
BEGIN:VEVENT
DTSTART;TZID=America/Chicago:20251026T081500
DTEND;TZID=America/Chicago:20251026T081500
DTSTAMP:20260419T190431
CREATED:20250916T054854Z
LAST-MODIFIED:20250916T054854Z
UID:10000065-1761466500-1761466500@www.redeemerlutheranpensacola.com
SUMMARY:Adult Bible Studies & Children's Sunday School
DESCRIPTION:
URL:https://www.redeemerlutheranpensacola.com/event/adult-bible-studies-childrens-sunday-school-6
CATEGORIES:Church Events
END:VEVENT
BEGIN:VEVENT
DTSTART;TZID=America/Chicago:20251026T093000
DTEND;TZID=America/Chicago:20251026T093000
DTSTAMP:20260419T190431
CREATED:20250916T054854Z
LAST-MODIFIED:20250916T054854Z
UID:10000066-1761471000-1761471000@www.redeemerlutheranpensacola.com
SUMMARY:Sunday Worship
DESCRIPTION:
URL:https://www.redeemerlutheranpensacola.com/event/sunday-worship-5
LOCATION:Redeemer Lutheran Church and School\, 333 Commerce St.\, Pensacola\, FL\, 32507\, United States
CATEGORIES:Church Events
END:VEVENT
BEGIN:VEVENT
DTSTART;TZID=America/Chicago:20251027T110000
DTEND;TZID=America/Chicago:20251027T120000
DTSTAMP:20260419T190431
CREATED:20250916T054855Z
LAST-MODIFIED:20250916T054855Z
UID:10000067-1761562800-1761566400@www.redeemerlutheranpensacola.com
SUMMARY:Geometry in AH
DESCRIPTION:
URL:https://www.redeemerlutheranpensacola.com/event/geometry-in-ah-17
LOCATION:Redeemer Lutheran Church and School\, 333 Commerce St.\, Pensacola\, FL\, 32507\, United States
CATEGORIES:School Events
END:VEVENT
BEGIN:VEVENT
DTSTART;TZID=America/Chicago:20251027T151500
DTEND;TZID=America/Chicago:20251027T154500
DTSTAMP:20260419T190431
CREATED:20250916T054856Z
LAST-MODIFIED:20250916T054856Z
UID:10000068-1761578100-1761579900@www.redeemerlutheranpensacola.com
SUMMARY:Little Lambs
DESCRIPTION:
URL:https://www.redeemerlutheranpensacola.com/event/little-lambs-7
LOCATION:Redeemer Lutheran Church and School\, 333 Commerce St.\, Pensacola\, FL\, 32507\, United States
CATEGORIES:Church Events
END:VEVENT
BEGIN:VEVENT
DTSTART;TZID=America/Chicago:20251028T093000
DTEND;TZID=America/Chicago:20251028T093000
DTSTAMP:20260419T190431
CREATED:20251016T152909Z
LAST-MODIFIED:20251016T152909Z
UID:10000271-1761643800-1761643800@www.redeemerlutheranpensacola.com
SUMMARY:Christmas Market Meeting @ Meeting House
DESCRIPTION:
URL:https://www.redeemerlutheranpensacola.com/event/christmas-market-meeting-meeting-house
END:VEVENT
BEGIN:VEVENT
DTSTART;TZID=America/Chicago:20251029T070000
DTEND;TZID=America/Chicago:20251029T070000
DTSTAMP:20260419T190431
CREATED:20250916T054915Z
LAST-MODIFIED:20251001T011255Z
UID:10000071-1761721200-1761721200@www.redeemerlutheranpensacola.com
SUMMARY:MBB @ Crazy Horse Cafe
DESCRIPTION:
URL:https://www.redeemerlutheranpensacola.com/event/mens-breakfast-bible-study-the-gathering-7
CATEGORIES:Church Events
END:VEVENT
BEGIN:VEVENT
DTSTART;TZID=America/Chicago:20251029T082500
DTEND;TZID=America/Chicago:20251029T082500
DTSTAMP:20260419T190431
CREATED:20250916T054913Z
LAST-MODIFIED:20250916T054913Z
UID:10000069-1761726300-1761726300@www.redeemerlutheranpensacola.com
SUMMARY:Chapel
DESCRIPTION:
URL:https://www.redeemerlutheranpensacola.com/event/chapel-7
LOCATION:Redeemer Lutheran Church and School\, 333 Commerce St.\, Pensacola\, FL\, 32507\, United States
CATEGORIES:School Events
END:VEVENT
BEGIN:VEVENT
DTSTART;TZID=America/Chicago:20251029T110000
DTEND;TZID=America/Chicago:20251029T120000
DTSTAMP:20260419T190431
CREATED:20250916T054914Z
LAST-MODIFIED:20250916T054914Z
UID:10000070-1761735600-1761739200@www.redeemerlutheranpensacola.com
SUMMARY:Geometry in AH
DESCRIPTION:
URL:https://www.redeemerlutheranpensacola.com/event/geometry-in-ah-18
LOCATION:Redeemer Lutheran Church and School\, 333 Commerce St.\, Pensacola\, FL\, 32507\, United States
CATEGORIES:School Events
END:VEVENT
BEGIN:VEVENT
DTSTART;TZID=America/Chicago:20251029T180000
DTEND;TZID=America/Chicago:20251029T180000
DTSTAMP:20260419T190431
CREATED:20251016T152448Z
LAST-MODIFIED:20251016T152448Z
UID:10000264-1761760800-1761760800@www.redeemerlutheranpensacola.com
SUMMARY:Adult Choir Rehearsal
DESCRIPTION:
URL:https://www.redeemerlutheranpensacola.com/event/adult-choir-rehearsal-2
END:VEVENT
BEGIN:VEVENT
DTSTART;TZID=America/Chicago:20251031T110000
DTEND;TZID=America/Chicago:20251031T120000
DTSTAMP:20260419T190431
CREATED:20250916T054915Z
LAST-MODIFIED:20250916T054915Z
UID:10000072-1761908400-1761912000@www.redeemerlutheranpensacola.com
SUMMARY:Geometry in AH
DESCRIPTION:
URL:https://www.redeemerlutheranpensacola.com/event/geometry-in-ah-19
LOCATION:Redeemer Lutheran Church and School\, 333 Commerce St.\, Pensacola\, FL\, 32507\, United States
CATEGORIES:School Events
END:VEVENT
END:VCALENDAR