BEGIN:VCALENDAR
VERSION:2.0
PRODID:-//Redeemer Lutheran Church - Pensacola - ECPv6.15.17.1//NONSGML v1.0//EN
CALSCALE:GREGORIAN
METHOD:PUBLISH
X-ORIGINAL-URL:https://www.redeemerlutheranpensacola.com
X-WR-CALDESC:Events for Redeemer Lutheran Church - Pensacola
REFRESH-INTERVAL;VALUE=DURATION:PT1H
X-Robots-Tag:noindex
X-PUBLISHED-TTL:PT1H
BEGIN:VTIMEZONE
TZID:America/Chicago
BEGIN:DAYLIGHT
TZOFFSETFROM:-0600
TZOFFSETTO:-0500
TZNAME:CDT
DTSTART:20240310T080000
END:DAYLIGHT
BEGIN:STANDARD
TZOFFSETFROM:-0500
TZOFFSETTO:-0600
TZNAME:CST
DTSTART:20241103T070000
END:STANDARD
BEGIN:DAYLIGHT
TZOFFSETFROM:-0600
TZOFFSETTO:-0500
TZNAME:CDT
DTSTART:20250309T080000
END:DAYLIGHT
BEGIN:STANDARD
TZOFFSETFROM:-0500
TZOFFSETTO:-0600
TZNAME:CST
DTSTART:20251102T070000
END:STANDARD
BEGIN:DAYLIGHT
TZOFFSETFROM:-0600
TZOFFSETTO:-0500
TZNAME:CDT
DTSTART:20260308T080000
END:DAYLIGHT
BEGIN:STANDARD
TZOFFSETFROM:-0500
TZOFFSETTO:-0600
TZNAME:CST
DTSTART:20261101T070000
END:STANDARD
END:VTIMEZONE
BEGIN:VEVENT
DTSTART;TZID=America/Chicago:20251029T082500
DTEND;TZID=America/Chicago:20251029T082500
DTSTAMP:20260419T210734
CREATED:20250916T054913Z
LAST-MODIFIED:20250916T054913Z
UID:10000069-1761726300-1761726300@www.redeemerlutheranpensacola.com
SUMMARY:Chapel
DESCRIPTION:
URL:https://www.redeemerlutheranpensacola.com/event/chapel-7
LOCATION:Redeemer Lutheran Church and School\, 333 Commerce St.\, Pensacola\, FL\, 32507\, United States
CATEGORIES:School Events
END:VEVENT
BEGIN:VEVENT
DTSTART;TZID=America/Chicago:20251029T110000
DTEND;TZID=America/Chicago:20251029T120000
DTSTAMP:20260419T210734
CREATED:20250916T054914Z
LAST-MODIFIED:20250916T054914Z
UID:10000070-1761735600-1761739200@www.redeemerlutheranpensacola.com
SUMMARY:Geometry in AH
DESCRIPTION:
URL:https://www.redeemerlutheranpensacola.com/event/geometry-in-ah-18
LOCATION:Redeemer Lutheran Church and School\, 333 Commerce St.\, Pensacola\, FL\, 32507\, United States
CATEGORIES:School Events
END:VEVENT
BEGIN:VEVENT
DTSTART;TZID=America/Chicago:20251031T110000
DTEND;TZID=America/Chicago:20251031T120000
DTSTAMP:20260419T210734
CREATED:20250916T054915Z
LAST-MODIFIED:20250916T054915Z
UID:10000072-1761908400-1761912000@www.redeemerlutheranpensacola.com
SUMMARY:Geometry in AH
DESCRIPTION:
URL:https://www.redeemerlutheranpensacola.com/event/geometry-in-ah-19
LOCATION:Redeemer Lutheran Church and School\, 333 Commerce St.\, Pensacola\, FL\, 32507\, United States
CATEGORIES:School Events
END:VEVENT
BEGIN:VEVENT
DTSTART;TZID=America/Chicago:20251103T110000
DTEND;TZID=America/Chicago:20251103T120000
DTSTAMP:20260419T210734
CREATED:20250916T054935Z
LAST-MODIFIED:20250916T054935Z
UID:10000075-1762167600-1762171200@www.redeemerlutheranpensacola.com
SUMMARY:Geometry in AH
DESCRIPTION:
URL:https://www.redeemerlutheranpensacola.com/event/geometry-in-ah-20
LOCATION:Redeemer Lutheran Church and School\, 333 Commerce St.\, Pensacola\, FL\, 32507\, United States
CATEGORIES:School Events
END:VEVENT
BEGIN:VEVENT
DTSTART;TZID=America/Chicago:20251105T082500
DTEND;TZID=America/Chicago:20251105T082500
DTSTAMP:20260419T210734
CREATED:20250916T054950Z
LAST-MODIFIED:20250916T054950Z
UID:10000079-1762331100-1762331100@www.redeemerlutheranpensacola.com
SUMMARY:Chapel
DESCRIPTION:
URL:https://www.redeemerlutheranpensacola.com/event/chapel-8
LOCATION:Redeemer Lutheran Church and School\, 333 Commerce St.\, Pensacola\, FL\, 32507\, United States
CATEGORIES:School Events
END:VEVENT
BEGIN:VEVENT
DTSTART;TZID=America/Chicago:20251105T110000
DTEND;TZID=America/Chicago:20251105T120000
DTSTAMP:20260419T210734
CREATED:20250916T054951Z
LAST-MODIFIED:20250916T054951Z
UID:10000080-1762340400-1762344000@www.redeemerlutheranpensacola.com
SUMMARY:Geometry in AH
DESCRIPTION:
URL:https://www.redeemerlutheranpensacola.com/event/geometry-in-ah-21
LOCATION:Redeemer Lutheran Church and School\, 333 Commerce St.\, Pensacola\, FL\, 32507\, United States
CATEGORIES:School Events
END:VEVENT
BEGIN:VEVENT
DTSTART;TZID=America/Chicago:20251107T110000
DTEND;TZID=America/Chicago:20251107T120000
DTSTAMP:20260419T210734
CREATED:20250916T054952Z
LAST-MODIFIED:20250916T054952Z
UID:10000082-1762513200-1762516800@www.redeemerlutheranpensacola.com
SUMMARY:Geometry in AH
DESCRIPTION:
URL:https://www.redeemerlutheranpensacola.com/event/geometry-in-ah-22
LOCATION:Redeemer Lutheran Church and School\, 333 Commerce St.\, Pensacola\, FL\, 32507\, United States
CATEGORIES:School Events
END:VEVENT
BEGIN:VEVENT
DTSTART;TZID=America/Chicago:20251110T110000
DTEND;TZID=America/Chicago:20251110T120000
DTSTAMP:20260419T210734
CREATED:20250916T054957Z
LAST-MODIFIED:20250916T054957Z
UID:10000088-1762772400-1762776000@www.redeemerlutheranpensacola.com
SUMMARY:Geometry in AH
DESCRIPTION:
URL:https://www.redeemerlutheranpensacola.com/event/geometry-in-ah-23
LOCATION:Redeemer Lutheran Church and School\, 333 Commerce St.\, Pensacola\, FL\, 32507\, United States
CATEGORIES:School Events
END:VEVENT
BEGIN:VEVENT
DTSTART;VALUE=DATE:20251111
DTEND;VALUE=DATE:20251112
DTSTAMP:20260419T210734
CREATED:20250916T055011Z
LAST-MODIFIED:20250916T055011Z
UID:10000091-1762819200-1762905599@www.redeemerlutheranpensacola.com
SUMMARY:No School due to holiday
DESCRIPTION:
URL:https://www.redeemerlutheranpensacola.com/event/no-school-due-to-holiday-2
LOCATION:Redeemer Lutheran Church and School\, 333 Commerce St.\, Pensacola\, FL\, 32507\, United States
CATEGORIES:School Events
END:VEVENT
BEGIN:VEVENT
DTSTART;TZID=America/Chicago:20251112T082500
DTEND;TZID=America/Chicago:20251112T082500
DTSTAMP:20260419T210734
CREATED:20250916T055012Z
LAST-MODIFIED:20250916T055012Z
UID:10000092-1762935900-1762935900@www.redeemerlutheranpensacola.com
SUMMARY:Chapel
DESCRIPTION:
URL:https://www.redeemerlutheranpensacola.com/event/chapel-9
LOCATION:Redeemer Lutheran Church and School\, 333 Commerce St.\, Pensacola\, FL\, 32507\, United States
CATEGORIES:School Events
END:VEVENT
BEGIN:VEVENT
DTSTART;TZID=America/Chicago:20251112T110000
DTEND;TZID=America/Chicago:20251112T120000
DTSTAMP:20260419T210734
CREATED:20250916T055013Z
LAST-MODIFIED:20250916T055013Z
UID:10000093-1762945200-1762948800@www.redeemerlutheranpensacola.com
SUMMARY:Geometry in AH
DESCRIPTION:
URL:https://www.redeemerlutheranpensacola.com/event/geometry-in-ah-24
LOCATION:Redeemer Lutheran Church and School\, 333 Commerce St.\, Pensacola\, FL\, 32507\, United States
CATEGORIES:School Events
END:VEVENT
BEGIN:VEVENT
DTSTART;TZID=America/Chicago:20251114T080000
DTEND;TZID=America/Chicago:20251114T130000
DTSTAMP:20260419T210734
CREATED:20250916T055015Z
LAST-MODIFIED:20251027T185147Z
UID:10000095-1763107200-1763125200@www.redeemerlutheranpensacola.com
SUMMARY:K5 Feast in AH
DESCRIPTION:
URL:https://www.redeemerlutheranpensacola.com/event/k5-feast
LOCATION:Redeemer Lutheran Church and School\, 333 Commerce St.\, Pensacola\, FL\, 32507\, United States
CATEGORIES:School Events
END:VEVENT
BEGIN:VEVENT
DTSTART;TZID=America/Chicago:20251114T110000
DTEND;TZID=America/Chicago:20251114T120000
DTSTAMP:20260419T210734
CREATED:20250916T055016Z
LAST-MODIFIED:20250916T055016Z
UID:10000096-1763118000-1763121600@www.redeemerlutheranpensacola.com
SUMMARY:Geometry in AH
DESCRIPTION:
URL:https://www.redeemerlutheranpensacola.com/event/geometry-in-ah-25
LOCATION:Redeemer Lutheran Church and School\, 333 Commerce St.\, Pensacola\, FL\, 32507\, United States
CATEGORIES:School Events
END:VEVENT
BEGIN:VEVENT
DTSTART;TZID=America/Chicago:20251117T110000
DTEND;TZID=America/Chicago:20251117T120000
DTSTAMP:20260419T210734
CREATED:20250916T055030Z
LAST-MODIFIED:20250916T055030Z
UID:10000099-1763377200-1763380800@www.redeemerlutheranpensacola.com
SUMMARY:Geometry in AH
DESCRIPTION:
URL:https://www.redeemerlutheranpensacola.com/event/geometry-in-ah-26
LOCATION:Redeemer Lutheran Church and School\, 333 Commerce St.\, Pensacola\, FL\, 32507\, United States
CATEGORIES:School Events
END:VEVENT
BEGIN:VEVENT
DTSTART;TZID=America/Chicago:20251119T082500
DTEND;TZID=America/Chicago:20251119T082500
DTSTAMP:20260419T210734
CREATED:20250916T055032Z
LAST-MODIFIED:20250916T055032Z
UID:10000102-1763540700-1763540700@www.redeemerlutheranpensacola.com
SUMMARY:Chapel
DESCRIPTION:
URL:https://www.redeemerlutheranpensacola.com/event/chapel-10
LOCATION:Redeemer Lutheran Church and School\, 333 Commerce St.\, Pensacola\, FL\, 32507\, United States
CATEGORIES:School Events
END:VEVENT
BEGIN:VEVENT
DTSTART;TZID=America/Chicago:20251119T110000
DTEND;TZID=America/Chicago:20251119T120000
DTSTAMP:20260419T210734
CREATED:20250916T055033Z
LAST-MODIFIED:20250916T055033Z
UID:10000103-1763550000-1763553600@www.redeemerlutheranpensacola.com
SUMMARY:Geometry in AH
DESCRIPTION:
URL:https://www.redeemerlutheranpensacola.com/event/geometry-in-ah-27
LOCATION:Redeemer Lutheran Church and School\, 333 Commerce St.\, Pensacola\, FL\, 32507\, United States
CATEGORIES:School Events
END:VEVENT
BEGIN:VEVENT
DTSTART;VALUE=DATE:20251121
DTEND;VALUE=DATE:20251122
DTSTAMP:20260419T210734
CREATED:20250916T055036Z
LAST-MODIFIED:20250916T055036Z
UID:10000106-1763683200-1763769599@www.redeemerlutheranpensacola.com
SUMMARY:Thanksgiving Feast
DESCRIPTION:
URL:https://www.redeemerlutheranpensacola.com/event/thanksgiving-feast
LOCATION:Redeemer Lutheran Church and School\, 333 Commerce St.\, Pensacola\, FL\, 32507\, United States
CATEGORIES:School Events
END:VEVENT
BEGIN:VEVENT
DTSTART;TZID=America/Chicago:20251121T110000
DTEND;TZID=America/Chicago:20251121T120000
DTSTAMP:20260419T210734
CREATED:20250916T055037Z
LAST-MODIFIED:20250916T055037Z
UID:10000107-1763722800-1763726400@www.redeemerlutheranpensacola.com
SUMMARY:Geometry in AH
DESCRIPTION:
URL:https://www.redeemerlutheranpensacola.com/event/geometry-in-ah-28
LOCATION:Redeemer Lutheran Church and School\, 333 Commerce St.\, Pensacola\, FL\, 32507\, United States
CATEGORIES:School Events
END:VEVENT
BEGIN:VEVENT
DTSTART;TZID=America/Chicago:20251201T110000
DTEND;TZID=America/Chicago:20251201T120000
DTSTAMP:20260419T210734
CREATED:20250916T055056Z
LAST-MODIFIED:20250916T055056Z
UID:10000120-1764586800-1764590400@www.redeemerlutheranpensacola.com
SUMMARY:Geometry in AH
DESCRIPTION:
URL:https://www.redeemerlutheranpensacola.com/event/geometry-in-ah-32
LOCATION:Redeemer Lutheran Church and School\, 333 Commerce St.\, Pensacola\, FL\, 32507\, United States
CATEGORIES:School Events
END:VEVENT
BEGIN:VEVENT
DTSTART;TZID=America/Chicago:20251203T082500
DTEND;TZID=America/Chicago:20251203T082500
DTSTAMP:20260419T210734
CREATED:20250916T055110Z
LAST-MODIFIED:20250916T055110Z
UID:10000124-1764750300-1764750300@www.redeemerlutheranpensacola.com
SUMMARY:Chapel
DESCRIPTION:
URL:https://www.redeemerlutheranpensacola.com/event/chapel-12
LOCATION:Redeemer Lutheran Church and School\, 333 Commerce St.\, Pensacola\, FL\, 32507\, United States
CATEGORIES:School Events
END:VEVENT
BEGIN:VEVENT
DTSTART;TZID=America/Chicago:20251203T110000
DTEND;TZID=America/Chicago:20251203T120000
DTSTAMP:20260419T210734
CREATED:20250916T055111Z
LAST-MODIFIED:20250916T055111Z
UID:10000125-1764759600-1764763200@www.redeemerlutheranpensacola.com
SUMMARY:Geometry in AH
DESCRIPTION:
URL:https://www.redeemerlutheranpensacola.com/event/geometry-in-ah-33
LOCATION:Redeemer Lutheran Church and School\, 333 Commerce St.\, Pensacola\, FL\, 32507\, United States
CATEGORIES:School Events
END:VEVENT
BEGIN:VEVENT
DTSTART;TZID=America/Chicago:20251205T110000
DTEND;TZID=America/Chicago:20251205T120000
DTSTAMP:20260419T210734
CREATED:20250916T055113Z
LAST-MODIFIED:20250916T055113Z
UID:10000128-1764932400-1764936000@www.redeemerlutheranpensacola.com
SUMMARY:Geometry in AH
DESCRIPTION:
URL:https://www.redeemerlutheranpensacola.com/event/geometry-in-ah-34
LOCATION:Redeemer Lutheran Church and School\, 333 Commerce St.\, Pensacola\, FL\, 32507\, United States
CATEGORIES:School Events
END:VEVENT
BEGIN:VEVENT
DTSTART;TZID=America/Chicago:20251208T110000
DTEND;TZID=America/Chicago:20251208T120000
DTSTAMP:20260419T210734
CREATED:20250916T055117Z
LAST-MODIFIED:20250916T055117Z
UID:10000132-1765191600-1765195200@www.redeemerlutheranpensacola.com
SUMMARY:Geometry in AH
DESCRIPTION:
URL:https://www.redeemerlutheranpensacola.com/event/geometry-in-ah-35
LOCATION:Redeemer Lutheran Church and School\, 333 Commerce St.\, Pensacola\, FL\, 32507\, United States
CATEGORIES:School Events
END:VEVENT
BEGIN:VEVENT
DTSTART;TZID=America/Chicago:20251210T082500
DTEND;TZID=America/Chicago:20251210T082500
DTSTAMP:20260419T210734
CREATED:20250916T055131Z
LAST-MODIFIED:20250916T055131Z
UID:10000135-1765355100-1765355100@www.redeemerlutheranpensacola.com
SUMMARY:Chapel
DESCRIPTION:
URL:https://www.redeemerlutheranpensacola.com/event/chapel-13
LOCATION:Redeemer Lutheran Church and School\, 333 Commerce St.\, Pensacola\, FL\, 32507\, United States
CATEGORIES:School Events
END:VEVENT
BEGIN:VEVENT
DTSTART;TZID=America/Chicago:20251210T110000
DTEND;TZID=America/Chicago:20251210T120000
DTSTAMP:20260419T210734
CREATED:20250916T055131Z
LAST-MODIFIED:20250916T055131Z
UID:10000136-1765364400-1765368000@www.redeemerlutheranpensacola.com
SUMMARY:Geometry in AH
DESCRIPTION:
URL:https://www.redeemerlutheranpensacola.com/event/geometry-in-ah-36
LOCATION:Redeemer Lutheran Church and School\, 333 Commerce St.\, Pensacola\, FL\, 32507\, United States
CATEGORIES:School Events
END:VEVENT
BEGIN:VEVENT
DTSTART;TZID=America/Chicago:20251212T110000
DTEND;TZID=America/Chicago:20251212T120000
DTSTAMP:20260419T210734
CREATED:20250916T055132Z
LAST-MODIFIED:20250916T055132Z
UID:10000138-1765537200-1765540800@www.redeemerlutheranpensacola.com
SUMMARY:Geometry in AH
DESCRIPTION:
URL:https://www.redeemerlutheranpensacola.com/event/geometry-in-ah-37
LOCATION:Redeemer Lutheran Church and School\, 333 Commerce St.\, Pensacola\, FL\, 32507\, United States
CATEGORIES:School Events
END:VEVENT
BEGIN:VEVENT
DTSTART;TZID=America/Chicago:20251215T110000
DTEND;TZID=America/Chicago:20251215T120000
DTSTAMP:20260419T210734
CREATED:20250916T055138Z
LAST-MODIFIED:20250916T055138Z
UID:10000143-1765796400-1765800000@www.redeemerlutheranpensacola.com
SUMMARY:Geometry in AH
DESCRIPTION:
URL:https://www.redeemerlutheranpensacola.com/event/geometry-in-ah-38
LOCATION:Redeemer Lutheran Church and School\, 333 Commerce St.\, Pensacola\, FL\, 32507\, United States
CATEGORIES:School Events
END:VEVENT
BEGIN:VEVENT
DTSTART;TZID=America/Chicago:20251216T103000
DTEND;TZID=America/Chicago:20251216T103000
DTSTAMP:20260419T210734
CREATED:20250916T055151Z
LAST-MODIFIED:20251203T190514Z
UID:10000146-1765881000-1765881000@www.redeemerlutheranpensacola.com
SUMMARY:Christmas Program - VPK/K–5 in Church
DESCRIPTION:
URL:https://www.redeemerlutheranpensacola.com/event/christmas-program-vpk-k-5
LOCATION:Redeemer Lutheran Church and School\, 333 Commerce St.\, Pensacola\, FL\, 32507\, United States
CATEGORIES:School Events
END:VEVENT
BEGIN:VEVENT
DTSTART;TZID=America/Chicago:20251217T082500
DTEND;TZID=America/Chicago:20251217T082500
DTSTAMP:20260419T210734
CREATED:20250916T055152Z
LAST-MODIFIED:20250916T055152Z
UID:10000147-1765959900-1765959900@www.redeemerlutheranpensacola.com
SUMMARY:Chapel
DESCRIPTION:
URL:https://www.redeemerlutheranpensacola.com/event/chapel-14
LOCATION:Redeemer Lutheran Church and School\, 333 Commerce St.\, Pensacola\, FL\, 32507\, United States
CATEGORIES:School Events
END:VEVENT
BEGIN:VEVENT
DTSTART;TZID=America/Chicago:20251217T110000
DTEND;TZID=America/Chicago:20251217T120000
DTSTAMP:20260419T210734
CREATED:20250916T055153Z
LAST-MODIFIED:20250916T055153Z
UID:10000148-1765969200-1765972800@www.redeemerlutheranpensacola.com
SUMMARY:Geometry in AH
DESCRIPTION:
URL:https://www.redeemerlutheranpensacola.com/event/geometry-in-ah-39
LOCATION:Redeemer Lutheran Church and School\, 333 Commerce St.\, Pensacola\, FL\, 32507\, United States
CATEGORIES:School Events
END:VEVENT
END:VCALENDAR