BEGIN:VCALENDAR
VERSION:2.0
PRODID:-//Redeemer Lutheran Church - Pensacola - ECPv6.15.17.1//NONSGML v1.0//EN
CALSCALE:GREGORIAN
METHOD:PUBLISH
X-WR-CALNAME:Redeemer Lutheran Church - Pensacola
X-ORIGINAL-URL:https://www.redeemerlutheranpensacola.com
X-WR-CALDESC:Events for Redeemer Lutheran Church - Pensacola
REFRESH-INTERVAL;VALUE=DURATION:PT1H
X-Robots-Tag:noindex
X-PUBLISHED-TTL:PT1H
BEGIN:VTIMEZONE
TZID:America/Chicago
BEGIN:DAYLIGHT
TZOFFSETFROM:-0600
TZOFFSETTO:-0500
TZNAME:CDT
DTSTART:20250309T080000
END:DAYLIGHT
BEGIN:STANDARD
TZOFFSETFROM:-0500
TZOFFSETTO:-0600
TZNAME:CST
DTSTART:20251102T070000
END:STANDARD
BEGIN:DAYLIGHT
TZOFFSETFROM:-0600
TZOFFSETTO:-0500
TZNAME:CDT
DTSTART:20260308T080000
END:DAYLIGHT
BEGIN:STANDARD
TZOFFSETFROM:-0500
TZOFFSETTO:-0600
TZNAME:CST
DTSTART:20261101T070000
END:STANDARD
BEGIN:DAYLIGHT
TZOFFSETFROM:-0600
TZOFFSETTO:-0500
TZNAME:CDT
DTSTART:20270314T080000
END:DAYLIGHT
BEGIN:STANDARD
TZOFFSETFROM:-0500
TZOFFSETTO:-0600
TZNAME:CST
DTSTART:20271107T070000
END:STANDARD
END:VTIMEZONE
BEGIN:VEVENT
DTSTART;VALUE=DATE:20260126
DTEND;VALUE=DATE:20260131
DTSTAMP:20260419T201101
CREATED:20250916T055236Z
LAST-MODIFIED:20251204T175545Z
UID:10000171-1769385600-1769817599@www.redeemerlutheranpensacola.com
SUMMARY:National Lutheran Schools Week
DESCRIPTION:
URL:https://www.redeemerlutheranpensacola.com/event/national-lutheran-schools-week
LOCATION:FL
CATEGORIES:School Events
END:VEVENT
BEGIN:VEVENT
DTSTART;VALUE=DATE:20260209
DTEND;VALUE=DATE:20260214
DTSTAMP:20260419T201101
CREATED:20250916T055240Z
LAST-MODIFIED:20251204T175659Z
UID:10000175-1770595200-1771027199@www.redeemerlutheranpensacola.com
SUMMARY:Book Fair
DESCRIPTION:
URL:https://www.redeemerlutheranpensacola.com/event/book-fair
LOCATION:Redeemer Lutheran Church and School\, 333 Commerce St.\, Pensacola\, FL\, 32507\, United States
CATEGORIES:School Events
END:VEVENT
BEGIN:VEVENT
DTSTART;TZID=America/Chicago:20260210T180000
DTEND;TZID=America/Chicago:20260210T200000
DTSTAMP:20260419T201101
CREATED:20250916T055241Z
LAST-MODIFIED:20250916T055241Z
UID:10000176-1770746400-1770753600@www.redeemerlutheranpensacola.com
SUMMARY:Family Night
DESCRIPTION:
URL:https://www.redeemerlutheranpensacola.com/event/family-night
LOCATION:Redeemer Lutheran Church and School\, 333 Commerce St.\, Pensacola\, FL\, 32507\, United States
CATEGORIES:School Events
END:VEVENT
BEGIN:VEVENT
DTSTART;TZID=America/Chicago:20260213T110000
DTEND;TZID=America/Chicago:20260213T110000
DTSTAMP:20260419T201101
CREATED:20250916T055242Z
LAST-MODIFIED:20250916T055242Z
UID:10000178-1770980400-1770980400@www.redeemerlutheranpensacola.com
SUMMARY:Half Day
DESCRIPTION:
URL:https://www.redeemerlutheranpensacola.com/event/half-day-4
LOCATION:Redeemer Lutheran Church and School\, 333 Commerce St.\, Pensacola\, FL\, 32507\, United States
CATEGORIES:School Events
END:VEVENT
BEGIN:VEVENT
DTSTART;VALUE=DATE:20260216
DTEND;VALUE=DATE:20260217
DTSTAMP:20260419T201101
CREATED:20250916T055246Z
LAST-MODIFIED:20250916T055246Z
UID:10000180-1771200000-1771286399@www.redeemerlutheranpensacola.com
SUMMARY:No School Due to Holiday
DESCRIPTION:
URL:https://www.redeemerlutheranpensacola.com/event/no-school-due-to-holiday-4
LOCATION:Redeemer Lutheran Church and School\, 333 Commerce St.\, Pensacola\, FL\, 32507\, United States
CATEGORIES:School Events
END:VEVENT
BEGIN:VEVENT
DTSTART;VALUE=DATE:20260313
DTEND;VALUE=DATE:20260314
DTSTAMP:20260419T201101
CREATED:20250916T055257Z
LAST-MODIFIED:20250916T055257Z
UID:10000187-1773360000-1773446399@www.redeemerlutheranpensacola.com
SUMMARY:Field Day/Half Day
DESCRIPTION:
URL:https://www.redeemerlutheranpensacola.com/event/field-day-half-day
LOCATION:Redeemer Lutheran Church and School\, 333 Commerce St.\, Pensacola\, FL\, 32507\, United States
CATEGORIES:School Events
END:VEVENT
BEGIN:VEVENT
DTSTART;VALUE=DATE:20260316
DTEND;VALUE=DATE:20260322
DTSTAMP:20260419T201101
CREATED:20250916T055302Z
LAST-MODIFIED:20250916T055302Z
UID:10000189-1773619200-1774137599@www.redeemerlutheranpensacola.com
SUMMARY:Spring Break - No School
DESCRIPTION:
URL:https://www.redeemerlutheranpensacola.com/event/spring-break-no-school
LOCATION:FL
CATEGORIES:School Events
END:VEVENT
BEGIN:VEVENT
DTSTART;VALUE=DATE:20260403
DTEND;VALUE=DATE:20260408
DTSTAMP:20260419T201101
CREATED:20250916T055315Z
LAST-MODIFIED:20250916T055315Z
UID:10000194-1775174400-1775606399@www.redeemerlutheranpensacola.com
SUMMARY:Easter Break - No School
DESCRIPTION:
URL:https://www.redeemerlutheranpensacola.com/event/easter-break-no-school
LOCATION:Redeemer Lutheran Church and School\, 333 Commerce St.\, Pensacola\, FL\, 32507\, United States
CATEGORIES:School Events
END:VEVENT
BEGIN:VEVENT
DTSTART;VALUE=DATE:20260501
DTEND;VALUE=DATE:20260502
DTSTAMP:20260419T201101
CREATED:20250916T055323Z
LAST-MODIFIED:20250916T055323Z
UID:10000202-1777593600-1777679999@www.redeemerlutheranpensacola.com
SUMMARY:K5 Mother's Day Program
DESCRIPTION:
URL:https://www.redeemerlutheranpensacola.com/event/k5-mothers-day-program
LOCATION:Redeemer Lutheran Church and School\, 333 Commerce St.\, Pensacola\, FL\, 32507\, United States
CATEGORIES:School Events
END:VEVENT
BEGIN:VEVENT
DTSTART;VALUE=DATE:20260508
DTEND;VALUE=DATE:20260509
DTSTAMP:20260419T201101
CREATED:20250916T055335Z
LAST-MODIFIED:20250916T055335Z
UID:10000204-1778198400-1778284799@www.redeemerlutheranpensacola.com
SUMMARY:1st Grade Circus
DESCRIPTION:
URL:https://www.redeemerlutheranpensacola.com/event/1st-grade-circus
LOCATION:Redeemer Lutheran Church and School\, 333 Commerce St.\, Pensacola\, FL\, 32507\, United States
CATEGORIES:School Events
END:VEVENT
BEGIN:VEVENT
DTSTART;TZID=America/Chicago:20260512T080000
DTEND;TZID=America/Chicago:20260512T090000
DTSTAMP:20260419T201101
CREATED:20250916T055337Z
LAST-MODIFIED:20250916T055337Z
UID:10000207-1778572800-1778576400@www.redeemerlutheranpensacola.com
SUMMARY:8th Grade Graduation
DESCRIPTION:
URL:https://www.redeemerlutheranpensacola.com/event/8th-grade-graduation
LOCATION:Redeemer Lutheran Church and School\, 333 Commerce St.\, Pensacola\, FL\, 32507\, United States
CATEGORIES:School Events
END:VEVENT
BEGIN:VEVENT
DTSTART;VALUE=DATE:20260520
DTEND;VALUE=DATE:20260521
DTSTAMP:20260419T201101
CREATED:20250916T055341Z
LAST-MODIFIED:20250916T055341Z
UID:10000209-1779235200-1779321599@www.redeemerlutheranpensacola.com
SUMMARY:K5 Graduation
DESCRIPTION:
URL:https://www.redeemerlutheranpensacola.com/event/k5-graduation
LOCATION:Redeemer Lutheran Church and School\, 333 Commerce St.\, Pensacola\, FL\, 32507\, United States
CATEGORIES:School Events
END:VEVENT
BEGIN:VEVENT
DTSTART;TZID=America/Chicago:20260522T110000
DTEND;TZID=America/Chicago:20260522T110000
DTSTAMP:20260419T201101
CREATED:20250916T055343Z
LAST-MODIFIED:20250916T055343Z
UID:10000212-1779447600-1779447600@www.redeemerlutheranpensacola.com
SUMMARY:Last Day of School - Half Day
DESCRIPTION:
URL:https://www.redeemerlutheranpensacola.com/event/last-day-of-school-half-day
LOCATION:Redeemer Lutheran Church and School\, 333 Commerce St.\, Pensacola\, FL\, 32507\, United States
CATEGORIES:School Events
END:VEVENT
END:VCALENDAR