BEGIN:VCALENDAR
VERSION:2.0
PRODID:-//Redeemer Lutheran Church - Pensacola - ECPv6.15.17.1//NONSGML v1.0//EN
CALSCALE:GREGORIAN
METHOD:PUBLISH
X-ORIGINAL-URL:https://www.redeemerlutheranpensacola.com
X-WR-CALDESC:Events for Redeemer Lutheran Church - Pensacola
REFRESH-INTERVAL;VALUE=DURATION:PT1H
X-Robots-Tag:noindex
X-PUBLISHED-TTL:PT1H
BEGIN:VTIMEZONE
TZID:America/Chicago
BEGIN:DAYLIGHT
TZOFFSETFROM:-0600
TZOFFSETTO:-0500
TZNAME:CDT
DTSTART:20250309T080000
END:DAYLIGHT
BEGIN:STANDARD
TZOFFSETFROM:-0500
TZOFFSETTO:-0600
TZNAME:CST
DTSTART:20251102T070000
END:STANDARD
BEGIN:DAYLIGHT
TZOFFSETFROM:-0600
TZOFFSETTO:-0500
TZNAME:CDT
DTSTART:20260308T080000
END:DAYLIGHT
BEGIN:STANDARD
TZOFFSETFROM:-0500
TZOFFSETTO:-0600
TZNAME:CST
DTSTART:20261101T070000
END:STANDARD
BEGIN:DAYLIGHT
TZOFFSETFROM:-0600
TZOFFSETTO:-0500
TZNAME:CDT
DTSTART:20270314T080000
END:DAYLIGHT
BEGIN:STANDARD
TZOFFSETFROM:-0500
TZOFFSETTO:-0600
TZNAME:CST
DTSTART:20271107T070000
END:STANDARD
END:VTIMEZONE
BEGIN:VEVENT
DTSTART;TZID=America/Chicago:20260110T070000
DTEND;TZID=America/Chicago:20260110T153000
DTSTAMP:20260419T220920
CREATED:20251118T141135Z
LAST-MODIFIED:20251118T141450Z
UID:10000285-1768028400-1768059000@www.redeemerlutheranpensacola.com
SUMMARY:Basketball Games in Gym
DESCRIPTION:
URL:https://www.redeemerlutheranpensacola.com/event/basketball-games-in-gym
CATEGORIES:Church Events
END:VEVENT
BEGIN:VEVENT
DTSTART;TZID=America/Chicago:20260110T100000
DTEND;TZID=America/Chicago:20260110T100000
DTSTAMP:20260419T220920
CREATED:20250916T055226Z
LAST-MODIFIED:20250916T055226Z
UID:10000164-1768039200-1768039200@www.redeemerlutheranpensacola.com
SUMMARY:Men's Study Group of the Lutheran Confessions @ Immanuel
DESCRIPTION:
URL:https://www.redeemerlutheranpensacola.com/event/mens-study-group-of-the-lutheran-confessions-immanuel-3
LOCATION:Immanuel Lutheran Church\, 24 W. Wright St.\, Pensacola\, FL\, 32501\, United States
CATEGORIES:Church Events
END:VEVENT
BEGIN:VEVENT
DTSTART;TZID=America/Chicago:20260111T110000
DTEND;TZID=America/Chicago:20260111T140000
DTSTAMP:20260419T220920
CREATED:20250916T055227Z
LAST-MODIFIED:20250916T055227Z
UID:10000165-1768129200-1768140000@www.redeemerlutheranpensacola.com
SUMMARY:Camp Dixie Chicken Dinner
DESCRIPTION:
URL:https://www.redeemerlutheranpensacola.com/event/camp-dixie-chicken-dinner-3
LOCATION:Camp Dixie\, 29711 Josephine Drive\, Elberta\, AL\, 36530\, United States
CATEGORIES:Church Events
END:VEVENT
BEGIN:VEVENT
DTSTART;TZID=America/Chicago:20260114T070000
DTEND;TZID=America/Chicago:20260114T070000
DTSTAMP:20260419T220920
CREATED:20250916T055227Z
LAST-MODIFIED:20251001T011642Z
UID:10000166-1768374000-1768374000@www.redeemerlutheranpensacola.com
SUMMARY:MBB @ Crazy Horse Cafe
DESCRIPTION:
URL:https://www.redeemerlutheranpensacola.com/event/mens-breakfast-bible-study-the-gathering-18
CATEGORIES:Church Events
END:VEVENT
BEGIN:VEVENT
DTSTART;TZID=America/Chicago:20260115T160000
DTEND;TZID=America/Chicago:20260115T160000
DTSTAMP:20260419T220920
CREATED:20250916T055228Z
LAST-MODIFIED:20250916T055228Z
UID:10000167-1768492800-1768492800@www.redeemerlutheranpensacola.com
SUMMARY:B.O.C.E. in AH
DESCRIPTION:
URL:https://www.redeemerlutheranpensacola.com/event/b-o-c-e-in-ah-5
LOCATION:Redeemer Lutheran Church and School\, 333 Commerce St.\, Pensacola\, FL\, 32507\, United States
CATEGORIES:Church Events
END:VEVENT
BEGIN:VEVENT
DTSTART;TZID=America/Chicago:20260117T070000
DTEND;TZID=America/Chicago:20260117T153000
DTSTAMP:20260419T220920
CREATED:20251118T141206Z
LAST-MODIFIED:20251118T141808Z
UID:10000286-1768633200-1768663800@www.redeemerlutheranpensacola.com
SUMMARY:Basketball Games in Gym
DESCRIPTION:
URL:https://www.redeemerlutheranpensacola.com/event/basketball-games-in-gym-2
CATEGORIES:Church Events
END:VEVENT
BEGIN:VEVENT
DTSTART;TZID=America/Chicago:20260121T070000
DTEND;TZID=America/Chicago:20260121T070000
DTSTAMP:20260419T220920
CREATED:20250916T055236Z
LAST-MODIFIED:20251001T011648Z
UID:10000170-1768978800-1768978800@www.redeemerlutheranpensacola.com
SUMMARY:MBB @ Crazy Horse Cafe
DESCRIPTION:
URL:https://www.redeemerlutheranpensacola.com/event/mens-breakfast-bible-study-the-gathering-19
CATEGORIES:Church Events
END:VEVENT
BEGIN:VEVENT
DTSTART;TZID=America/Chicago:20260124T070000
DTEND;TZID=America/Chicago:20260124T153000
DTSTAMP:20260419T220920
CREATED:20251118T141234Z
LAST-MODIFIED:20251118T141727Z
UID:10000287-1769238000-1769268600@www.redeemerlutheranpensacola.com
SUMMARY:Basketball Games in Gym
DESCRIPTION:
URL:https://www.redeemerlutheranpensacola.com/event/basketball-games-in-gym-3
CATEGORIES:Church Events
END:VEVENT
BEGIN:VEVENT
DTSTART;TZID=America/Chicago:20260128T070000
DTEND;TZID=America/Chicago:20260128T070000
DTSTAMP:20260419T220920
CREATED:20250916T055237Z
LAST-MODIFIED:20251001T011654Z
UID:10000172-1769583600-1769583600@www.redeemerlutheranpensacola.com
SUMMARY:MBB @ Crazy Horse Cafe
DESCRIPTION:
URL:https://www.redeemerlutheranpensacola.com/event/mens-breakfast-bible-study-the-gathering-20
CATEGORIES:Church Events
END:VEVENT
BEGIN:VEVENT
DTSTART;TZID=America/Chicago:20260131T070000
DTEND;TZID=America/Chicago:20260131T153000
DTSTAMP:20260419T220920
CREATED:20251118T141259Z
LAST-MODIFIED:20251118T141651Z
UID:10000288-1769842800-1769873400@www.redeemerlutheranpensacola.com
SUMMARY:Basketball Games in Gym
DESCRIPTION:
URL:https://www.redeemerlutheranpensacola.com/event/basketball-games-in-gym-4
CATEGORIES:Church Events
END:VEVENT
BEGIN:VEVENT
DTSTART;TZID=America/Chicago:20260204T070000
DTEND;TZID=America/Chicago:20260204T070000
DTSTAMP:20260419T220920
CREATED:20250916T055238Z
LAST-MODIFIED:20251001T011700Z
UID:10000173-1770188400-1770188400@www.redeemerlutheranpensacola.com
SUMMARY:MBB @ Crazy Horse Cafe
DESCRIPTION:
URL:https://www.redeemerlutheranpensacola.com/event/mens-breakfast-bible-study-the-gathering-21
CATEGORIES:Church Events
END:VEVENT
BEGIN:VEVENT
DTSTART;TZID=America/Chicago:20260207T070000
DTEND;TZID=America/Chicago:20260207T153000
DTSTAMP:20260419T220920
CREATED:20251118T141323Z
LAST-MODIFIED:20251118T141616Z
UID:10000289-1770447600-1770478200@www.redeemerlutheranpensacola.com
SUMMARY:Basketball Games in Gym
DESCRIPTION:
URL:https://www.redeemerlutheranpensacola.com/event/basketball-games-in-gym-5
CATEGORIES:Church Events
END:VEVENT
BEGIN:VEVENT
DTSTART;TZID=America/Chicago:20260208T110000
DTEND;TZID=America/Chicago:20260208T140000
DTSTAMP:20260419T220920
CREATED:20250916T055239Z
LAST-MODIFIED:20250916T055239Z
UID:10000174-1770548400-1770559200@www.redeemerlutheranpensacola.com
SUMMARY:Camp Dixie Chicken Dinner
DESCRIPTION:
URL:https://www.redeemerlutheranpensacola.com/event/camp-dixie-chicken-dinner-4
LOCATION:Camp Dixie\, 29711 Josephine Drive\, Elberta\, AL\, 36530\, United States
CATEGORIES:Church Events
END:VEVENT
BEGIN:VEVENT
DTSTART;TZID=America/Chicago:20260211T070000
DTEND;TZID=America/Chicago:20260211T070000
DTSTAMP:20260419T220920
CREATED:20250916T055241Z
LAST-MODIFIED:20251001T011706Z
UID:10000177-1770793200-1770793200@www.redeemerlutheranpensacola.com
SUMMARY:MBB @ Crazy Horse Cafe
DESCRIPTION:
URL:https://www.redeemerlutheranpensacola.com/event/mens-breakfast-bible-study-the-gathering-22
CATEGORIES:Church Events
END:VEVENT
BEGIN:VEVENT
DTSTART;TZID=America/Chicago:20260214T070000
DTEND;TZID=America/Chicago:20260214T153000
DTSTAMP:20260419T220920
CREATED:20251118T141348Z
LAST-MODIFIED:20251118T141527Z
UID:10000290-1771052400-1771083000@www.redeemerlutheranpensacola.com
SUMMARY:Basketball Games in Gym
DESCRIPTION:
URL:https://www.redeemerlutheranpensacola.com/event/basketball-games-in-gym-6
CATEGORIES:Church Events
END:VEVENT
BEGIN:VEVENT
DTSTART;TZID=America/Chicago:20260214T100000
DTEND;TZID=America/Chicago:20260214T100000
DTSTAMP:20260419T220920
CREATED:20250916T055245Z
LAST-MODIFIED:20250916T055245Z
UID:10000179-1771063200-1771063200@www.redeemerlutheranpensacola.com
SUMMARY:Men's Study Group of the Lutheran Confessions @ Immanuel
DESCRIPTION:
URL:https://www.redeemerlutheranpensacola.com/event/mens-study-group-of-the-lutheran-confessions-immanuel-4
LOCATION:Immanuel Lutheran Church\, 24 W. Wright St.\, Pensacola\, FL\, 32501\, United States
CATEGORIES:Church Events
END:VEVENT
BEGIN:VEVENT
DTSTART;TZID=America/Chicago:20260218T070000
DTEND;TZID=America/Chicago:20260218T070000
DTSTAMP:20260419T220920
CREATED:20250916T055246Z
LAST-MODIFIED:20251001T011712Z
UID:10000181-1771398000-1771398000@www.redeemerlutheranpensacola.com
SUMMARY:MBB @ Crazy Horse Cafe
DESCRIPTION:
URL:https://www.redeemerlutheranpensacola.com/event/mens-breakfast-bible-study-the-gathering-23
CATEGORIES:Church Events
END:VEVENT
BEGIN:VEVENT
DTSTART;TZID=America/Chicago:20260219T160000
DTEND;TZID=America/Chicago:20260219T160000
DTSTAMP:20260419T220920
CREATED:20250916T055247Z
LAST-MODIFIED:20250916T055247Z
UID:10000182-1771516800-1771516800@www.redeemerlutheranpensacola.com
SUMMARY:B.O.C.E. in AH
DESCRIPTION:
URL:https://www.redeemerlutheranpensacola.com/event/b-o-c-e-in-ah-6
LOCATION:Redeemer Lutheran Church and School\, 333 Commerce St.\, Pensacola\, FL\, 32507\, United States
CATEGORIES:Church Events
END:VEVENT
BEGIN:VEVENT
DTSTART;TZID=America/Chicago:20260225T070000
DTEND;TZID=America/Chicago:20260225T070000
DTSTAMP:20260419T220920
CREATED:20250916T055248Z
LAST-MODIFIED:20251001T011719Z
UID:10000183-1772002800-1772002800@www.redeemerlutheranpensacola.com
SUMMARY:MBB @ Crazy Horse Cafe
DESCRIPTION:
URL:https://www.redeemerlutheranpensacola.com/event/mens-breakfast-bible-study-the-gathering-24
CATEGORIES:Church Events
END:VEVENT
BEGIN:VEVENT
DTSTART;TZID=America/Chicago:20260304T070000
DTEND;TZID=America/Chicago:20260304T070000
DTSTAMP:20260419T220920
CREATED:20250916T055255Z
LAST-MODIFIED:20251001T011725Z
UID:10000184-1772607600-1772607600@www.redeemerlutheranpensacola.com
SUMMARY:MBB @ Crazy Horse Cafe
DESCRIPTION:
URL:https://www.redeemerlutheranpensacola.com/event/mens-breakfast-bible-study-the-gathering-25
CATEGORIES:Church Events
END:VEVENT
BEGIN:VEVENT
DTSTART;TZID=America/Chicago:20260308T110000
DTEND;TZID=America/Chicago:20260308T140000
DTSTAMP:20260419T220920
CREATED:20250916T055256Z
LAST-MODIFIED:20250916T055256Z
UID:10000185-1772967600-1772978400@www.redeemerlutheranpensacola.com
SUMMARY:Camp Dixie Chicken Dinner
DESCRIPTION:
URL:https://www.redeemerlutheranpensacola.com/event/camp-dixie-chicken-dinner-5
LOCATION:Camp Dixie\, 29711 Josephine Drive\, Elberta\, AL\, 36530\, United States
CATEGORIES:Church Events
END:VEVENT
BEGIN:VEVENT
DTSTART;TZID=America/Chicago:20260311T070000
DTEND;TZID=America/Chicago:20260311T070000
DTSTAMP:20260419T220920
CREATED:20250916T055256Z
LAST-MODIFIED:20251001T011730Z
UID:10000186-1773212400-1773212400@www.redeemerlutheranpensacola.com
SUMMARY:MBB @ Crazy Horse Cafe
DESCRIPTION:
URL:https://www.redeemerlutheranpensacola.com/event/mens-breakfast-bible-study-the-gathering-26
CATEGORIES:Church Events
END:VEVENT
BEGIN:VEVENT
DTSTART;TZID=America/Chicago:20260314T100000
DTEND;TZID=America/Chicago:20260314T100000
DTSTAMP:20260419T220920
CREATED:20250916T055258Z
LAST-MODIFIED:20250916T055258Z
UID:10000188-1773482400-1773482400@www.redeemerlutheranpensacola.com
SUMMARY:Men's Study Group of the Lutheran Confessions @ Immanuel
DESCRIPTION:
URL:https://www.redeemerlutheranpensacola.com/event/mens-study-group-of-the-lutheran-confessions-immanuel-5
LOCATION:Immanuel Lutheran Church\, 24 W. Wright St.\, Pensacola\, FL\, 32501\, United States
CATEGORIES:Church Events
END:VEVENT
BEGIN:VEVENT
DTSTART;TZID=America/Chicago:20260318T070000
DTEND;TZID=America/Chicago:20260318T070000
DTSTAMP:20260419T220920
CREATED:20250916T055303Z
LAST-MODIFIED:20251001T011736Z
UID:10000190-1773817200-1773817200@www.redeemerlutheranpensacola.com
SUMMARY:MBB @ Crazy Horse Cafe
DESCRIPTION:
URL:https://www.redeemerlutheranpensacola.com/event/mens-breakfast-bible-study-the-gathering-27
CATEGORIES:Church Events
END:VEVENT
BEGIN:VEVENT
DTSTART;TZID=America/Chicago:20260319T160000
DTEND;TZID=America/Chicago:20260319T160000
DTSTAMP:20260419T220920
CREATED:20250916T055303Z
LAST-MODIFIED:20250916T055303Z
UID:10000191-1773936000-1773936000@www.redeemerlutheranpensacola.com
SUMMARY:B.O.C.E. in AH
DESCRIPTION:
URL:https://www.redeemerlutheranpensacola.com/event/b-o-c-e-in-ah-7
LOCATION:Redeemer Lutheran Church and School\, 333 Commerce St.\, Pensacola\, FL\, 32507\, United States
CATEGORIES:Church Events
END:VEVENT
BEGIN:VEVENT
DTSTART;TZID=America/Chicago:20260325T070000
DTEND;TZID=America/Chicago:20260325T070000
DTSTAMP:20260419T220920
CREATED:20250916T055304Z
LAST-MODIFIED:20251001T011742Z
UID:10000192-1774422000-1774422000@www.redeemerlutheranpensacola.com
SUMMARY:MBB @ Crazy Horse Cafe
DESCRIPTION:
URL:https://www.redeemerlutheranpensacola.com/event/mens-breakfast-bible-study-the-gathering-28
CATEGORIES:Church Events
END:VEVENT
BEGIN:VEVENT
DTSTART;TZID=America/Chicago:20260401T070000
DTEND;TZID=America/Chicago:20260401T070000
DTSTAMP:20260419T220920
CREATED:20250916T055305Z
LAST-MODIFIED:20251001T011748Z
UID:10000193-1775026800-1775026800@www.redeemerlutheranpensacola.com
SUMMARY:MBB @ Crazy Horse Cafe
DESCRIPTION:
URL:https://www.redeemerlutheranpensacola.com/event/mens-breakfast-bible-study-the-gathering-29
CATEGORIES:Church Events
END:VEVENT
BEGIN:VEVENT
DTSTART;TZID=America/Chicago:20260408T070000
DTEND;TZID=America/Chicago:20260408T070000
DTSTAMP:20260419T220920
CREATED:20250916T055316Z
LAST-MODIFIED:20251001T011755Z
UID:10000195-1775631600-1775631600@www.redeemerlutheranpensacola.com
SUMMARY:MBB @ Crazy Horse Cafe
DESCRIPTION:
URL:https://www.redeemerlutheranpensacola.com/event/mens-breakfast-bible-study-the-gathering-30
CATEGORIES:Church Events
END:VEVENT
BEGIN:VEVENT
DTSTART;TZID=America/Chicago:20260411T100000
DTEND;TZID=America/Chicago:20260411T100000
DTSTAMP:20260419T220920
CREATED:20250916T055316Z
LAST-MODIFIED:20250916T055316Z
UID:10000196-1775901600-1775901600@www.redeemerlutheranpensacola.com
SUMMARY:Men's Study Group of the Lutheran Confessions @ Immanuel
DESCRIPTION:
URL:https://www.redeemerlutheranpensacola.com/event/mens-study-group-of-the-lutheran-confessions-immanuel-6
LOCATION:Immanuel Lutheran Church\, 24 W. Wright St.\, Pensacola\, FL\, 32501\, United States
CATEGORIES:Church Events
END:VEVENT
BEGIN:VEVENT
DTSTART;TZID=America/Chicago:20260412T110000
DTEND;TZID=America/Chicago:20260412T140000
DTSTAMP:20260419T220920
CREATED:20250916T055317Z
LAST-MODIFIED:20250916T055317Z
UID:10000197-1775991600-1776002400@www.redeemerlutheranpensacola.com
SUMMARY:Camp Dixie Chicken Dinner
DESCRIPTION:
URL:https://www.redeemerlutheranpensacola.com/event/camp-dixie-chicken-dinner-6
LOCATION:Camp Dixie\, 29711 Josephine Drive\, Elberta\, AL\, 36530\, United States
CATEGORIES:Church Events
END:VEVENT
END:VCALENDAR