BEGIN:VCALENDAR
VERSION:2.0
PRODID:-//Redeemer Lutheran Church - Pensacola - ECPv6.15.17.1//NONSGML v1.0//EN
CALSCALE:GREGORIAN
METHOD:PUBLISH
X-ORIGINAL-URL:https://www.redeemerlutheranpensacola.com
X-WR-CALDESC:Events for Redeemer Lutheran Church - Pensacola
REFRESH-INTERVAL;VALUE=DURATION:PT1H
X-Robots-Tag:noindex
X-PUBLISHED-TTL:PT1H
BEGIN:VTIMEZONE
TZID:America/Chicago
BEGIN:DAYLIGHT
TZOFFSETFROM:-0600
TZOFFSETTO:-0500
TZNAME:CDT
DTSTART:20240310T080000
END:DAYLIGHT
BEGIN:STANDARD
TZOFFSETFROM:-0500
TZOFFSETTO:-0600
TZNAME:CST
DTSTART:20241103T070000
END:STANDARD
BEGIN:DAYLIGHT
TZOFFSETFROM:-0600
TZOFFSETTO:-0500
TZNAME:CDT
DTSTART:20250309T080000
END:DAYLIGHT
BEGIN:STANDARD
TZOFFSETFROM:-0500
TZOFFSETTO:-0600
TZNAME:CST
DTSTART:20251102T070000
END:STANDARD
BEGIN:DAYLIGHT
TZOFFSETFROM:-0600
TZOFFSETTO:-0500
TZNAME:CDT
DTSTART:20260308T080000
END:DAYLIGHT
BEGIN:STANDARD
TZOFFSETFROM:-0500
TZOFFSETTO:-0600
TZNAME:CST
DTSTART:20261101T070000
END:STANDARD
END:VTIMEZONE
BEGIN:VEVENT
DTSTART;VALUE=DATE:20251124
DTEND;VALUE=DATE:20251205
DTSTAMP:20260419T234614
CREATED:20250916T055040Z
LAST-MODIFIED:20251118T204010Z
UID:10000110-1763942400-1764892799@www.redeemerlutheranpensacola.com
SUMMARY:Setup for Christmas Market in AH
DESCRIPTION:
URL:https://www.redeemerlutheranpensacola.com/event/setup-for-christmas-market-in-ah
CATEGORIES:Church Events
END:VEVENT
BEGIN:VEVENT
DTSTART;TZID=America/Chicago:20251124T083000
DTEND;TZID=America/Chicago:20251124T083000
DTSTAMP:20260419T234614
CREATED:20251118T160920Z
LAST-MODIFIED:20251118T160920Z
UID:10000291-1763973000-1763973000@www.redeemerlutheranpensacola.com
SUMMARY:Lock Smiths On Grounds
DESCRIPTION:
URL:https://www.redeemerlutheranpensacola.com/event/lock-smiths-on-grounds
CATEGORIES:Church Events
END:VEVENT
BEGIN:VEVENT
DTSTART;TZID=America/Chicago:20251126T070000
DTEND;TZID=America/Chicago:20251126T070000
DTSTAMP:20260419T234614
CREATED:20250916T055051Z
LAST-MODIFIED:20251001T011324Z
UID:10000115-1764140400-1764140400@www.redeemerlutheranpensacola.com
SUMMARY:MBB @ Crazy Horse Cafe
DESCRIPTION:
URL:https://www.redeemerlutheranpensacola.com/event/mens-breakfast-bible-study-the-gathering-11
CATEGORIES:Church Events
END:VEVENT
BEGIN:VEVENT
DTSTART;TZID=America/Chicago:20251130T081500
DTEND;TZID=America/Chicago:20251130T081500
DTSTAMP:20260419T234614
CREATED:20250916T055053Z
LAST-MODIFIED:20250916T055053Z
UID:10000118-1764490500-1764490500@www.redeemerlutheranpensacola.com
SUMMARY:Adult Bible Studies & Children's Sunday School
DESCRIPTION:
URL:https://www.redeemerlutheranpensacola.com/event/adult-bible-studies-childrens-sunday-school-11
CATEGORIES:Church Events
END:VEVENT
BEGIN:VEVENT
DTSTART;TZID=America/Chicago:20251130T093000
DTEND;TZID=America/Chicago:20251130T093000
DTSTAMP:20260419T234614
CREATED:20250916T055055Z
LAST-MODIFIED:20250916T055055Z
UID:10000119-1764495000-1764495000@www.redeemerlutheranpensacola.com
SUMMARY:Sunday Worship
DESCRIPTION:
URL:https://www.redeemerlutheranpensacola.com/event/sunday-worship-9
LOCATION:Redeemer Lutheran Church and School\, 333 Commerce St.\, Pensacola\, FL\, 32507\, United States
CATEGORIES:Church Events
END:VEVENT
BEGIN:VEVENT
DTSTART;TZID=America/Chicago:20251201T151500
DTEND;TZID=America/Chicago:20251201T154500
DTSTAMP:20260419T234614
CREATED:20250916T055056Z
LAST-MODIFIED:20250916T055056Z
UID:10000121-1764602100-1764603900@www.redeemerlutheranpensacola.com
SUMMARY:Little Lambs
DESCRIPTION:
URL:https://www.redeemerlutheranpensacola.com/event/little-lambs-12
LOCATION:Redeemer Lutheran Church and School\, 333 Commerce St.\, Pensacola\, FL\, 32507\, United States
CATEGORIES:Church Events
END:VEVENT
BEGIN:VEVENT
DTSTART;TZID=America/Chicago:20251201T180000
DTEND;TZID=America/Chicago:20251201T180000
DTSTAMP:20260419T234614
CREATED:20250916T055057Z
LAST-MODIFIED:20250916T055057Z
UID:10000122-1764612000-1764612000@www.redeemerlutheranpensacola.com
SUMMARY:Elders Meeting in AH
DESCRIPTION:
URL:https://www.redeemerlutheranpensacola.com/event/elders-meeting-in-ah-4
LOCATION:Redeemer Lutheran Church and School\, 333 Commerce St.\, Pensacola\, FL\, 32507\, United States
CATEGORIES:Church Events
END:VEVENT
BEGIN:VEVENT
DTSTART;TZID=America/Chicago:20251202T093000
DTEND;TZID=America/Chicago:20251202T093000
DTSTAMP:20260419T234614
CREATED:20250916T055058Z
LAST-MODIFIED:20250916T055058Z
UID:10000123-1764667800-1764667800@www.redeemerlutheranpensacola.com
SUMMARY:Ladies Bible Study in AH
DESCRIPTION:
URL:https://www.redeemerlutheranpensacola.com/event/ladies-bible-study-in-ah-6
LOCATION:Redeemer Lutheran Church and School\, 333 Commerce St.\, Pensacola\, FL\, 32507\, United States
CATEGORIES:Church Events
END:VEVENT
BEGIN:VEVENT
DTSTART;TZID=America/Chicago:20251203T070000
DTEND;TZID=America/Chicago:20251203T070000
DTSTAMP:20260419T234614
CREATED:20250916T055111Z
LAST-MODIFIED:20251001T011332Z
UID:10000126-1764745200-1764745200@www.redeemerlutheranpensacola.com
SUMMARY:MBB @ Crazy Horse Cafe
DESCRIPTION:
URL:https://www.redeemerlutheranpensacola.com/event/mens-breakfast-bible-study-the-gathering-12
CATEGORIES:Church Events
END:VEVENT
BEGIN:VEVENT
DTSTART;VALUE=DATE:20251205
DTEND;VALUE=DATE:20251213
DTSTAMP:20260419T234614
CREATED:20250916T055116Z
LAST-MODIFIED:20251016T173240Z
UID:10000131-1764892800-1765583999@www.redeemerlutheranpensacola.com
SUMMARY:Mark on Vacation
DESCRIPTION:
URL:https://www.redeemerlutheranpensacola.com/event/mark-on-vacation
CATEGORIES:Church Events
END:VEVENT
BEGIN:VEVENT
DTSTART;TZID=America/Chicago:20251205T150000
DTEND;TZID=America/Chicago:20251205T180000
DTSTAMP:20260419T234614
CREATED:20250916T055112Z
LAST-MODIFIED:20251016T154200Z
UID:10000127-1764946800-1764957600@www.redeemerlutheranpensacola.com
SUMMARY:Christmas Market in AH
DESCRIPTION:
URL:https://www.redeemerlutheranpensacola.com/event/christmas-market
CATEGORIES:Church Events
END:VEVENT
BEGIN:VEVENT
DTSTART;TZID=America/Chicago:20251207T081500
DTEND;TZID=America/Chicago:20251207T081500
DTSTAMP:20260419T234614
CREATED:20250916T055115Z
LAST-MODIFIED:20250916T055115Z
UID:10000129-1765095300-1765095300@www.redeemerlutheranpensacola.com
SUMMARY:Adult Bible Studies & Children's Sunday School
DESCRIPTION:
URL:https://www.redeemerlutheranpensacola.com/event/adult-bible-studies-childrens-sunday-school-12
CATEGORIES:Church Events
END:VEVENT
BEGIN:VEVENT
DTSTART;TZID=America/Chicago:20251207T093000
DTEND;TZID=America/Chicago:20251207T093000
DTSTAMP:20260419T234614
CREATED:20250916T055116Z
LAST-MODIFIED:20250916T055116Z
UID:10000130-1765099800-1765099800@www.redeemerlutheranpensacola.com
SUMMARY:Sunday Worship
DESCRIPTION:
URL:https://www.redeemerlutheranpensacola.com/event/sunday-worship-10
LOCATION:Redeemer Lutheran Church and School\, 333 Commerce St.\, Pensacola\, FL\, 32507\, United States
CATEGORIES:Church Events
END:VEVENT
BEGIN:VEVENT
DTSTART;TZID=America/Chicago:20251208T151500
DTEND;TZID=America/Chicago:20251208T154500
DTSTAMP:20260419T234614
CREATED:20250916T055118Z
LAST-MODIFIED:20250916T055118Z
UID:10000133-1765206900-1765208700@www.redeemerlutheranpensacola.com
SUMMARY:Little Lambs
DESCRIPTION:
URL:https://www.redeemerlutheranpensacola.com/event/little-lambs-13
LOCATION:Redeemer Lutheran Church and School\, 333 Commerce St.\, Pensacola\, FL\, 32507\, United States
CATEGORIES:Church Events
END:VEVENT
BEGIN:VEVENT
DTSTART;TZID=America/Chicago:20251208T180000
DTEND;TZID=America/Chicago:20251208T180000
DTSTAMP:20260419T234614
CREATED:20250916T055130Z
LAST-MODIFIED:20250916T055130Z
UID:10000134-1765216800-1765216800@www.redeemerlutheranpensacola.com
SUMMARY:Church Council in AH
DESCRIPTION:
URL:https://www.redeemerlutheranpensacola.com/event/church-council-in-ah-3
LOCATION:Redeemer Lutheran Church and School\, 333 Commerce St.\, Pensacola\, FL\, 32507\, United States
CATEGORIES:Church Events
END:VEVENT
BEGIN:VEVENT
DTSTART;TZID=America/Chicago:20251210T070000
DTEND;TZID=America/Chicago:20251210T070000
DTSTAMP:20260419T234614
CREATED:20250916T055132Z
LAST-MODIFIED:20251001T011343Z
UID:10000137-1765350000-1765350000@www.redeemerlutheranpensacola.com
SUMMARY:MBB @ Crazy Horse Cafe
DESCRIPTION:
URL:https://www.redeemerlutheranpensacola.com/event/mens-breakfast-bible-study-the-gathering-13
CATEGORIES:Church Events
END:VEVENT
BEGIN:VEVENT
DTSTART;TZID=America/Chicago:20251211T160000
DTEND;TZID=America/Chicago:20251211T160000
DTSTAMP:20260419T234614
CREATED:20250916T055156Z
LAST-MODIFIED:20251016T173322Z
UID:10000150-1765468800-1765468800@www.redeemerlutheranpensacola.com
SUMMARY:B.O.C.E. in AH
DESCRIPTION:
URL:https://www.redeemerlutheranpensacola.com/event/b-o-c-e-in-ah-4
LOCATION:Redeemer Lutheran Church and School\, 333 Commerce St.\, Pensacola\, FL\, 32507\, United States
CATEGORIES:Church Events
END:VEVENT
BEGIN:VEVENT
DTSTART;TZID=America/Chicago:20251213T100000
DTEND;TZID=America/Chicago:20251213T100000
DTSTAMP:20260419T234614
CREATED:20250916T055135Z
LAST-MODIFIED:20250916T055135Z
UID:10000139-1765620000-1765620000@www.redeemerlutheranpensacola.com
SUMMARY:Men's Study Group of the Lutheran Confessions @ Immanuel
DESCRIPTION:
URL:https://www.redeemerlutheranpensacola.com/event/mens-study-group-of-the-lutheran-confessions-immanuel-2
LOCATION:Immanuel Lutheran Church\, 24 W. Wright St.\, Pensacola\, FL\, 32501\, United States
CATEGORIES:Church Events
END:VEVENT
BEGIN:VEVENT
DTSTART;TZID=America/Chicago:20251213T110000
DTEND;TZID=America/Chicago:20251213T110000
DTSTAMP:20260419T234614
CREATED:20250916T055136Z
LAST-MODIFIED:20250916T055136Z
UID:10000140-1765623600-1765623600@www.redeemerlutheranpensacola.com
SUMMARY:Ensemble Practice
DESCRIPTION:
URL:https://www.redeemerlutheranpensacola.com/event/ensemble-practice-4
LOCATION:Redeemer Lutheran Church and School\, 333 Commerce St.\, Pensacola\, FL\, 32507\, United States
CATEGORIES:Church Events
END:VEVENT
BEGIN:VEVENT
DTSTART;TZID=America/Chicago:20251214T081500
DTEND;TZID=America/Chicago:20251214T081500
DTSTAMP:20260419T234614
CREATED:20250916T055136Z
LAST-MODIFIED:20250916T055136Z
UID:10000141-1765700100-1765700100@www.redeemerlutheranpensacola.com
SUMMARY:Adult Bible Studies & Children's Sunday School
DESCRIPTION:
URL:https://www.redeemerlutheranpensacola.com/event/adult-bible-studies-childrens-sunday-school-13
CATEGORIES:Church Events
END:VEVENT
BEGIN:VEVENT
DTSTART;TZID=America/Chicago:20251214T093000
DTEND;TZID=America/Chicago:20251214T093000
DTSTAMP:20260419T234614
CREATED:20250916T055137Z
LAST-MODIFIED:20250916T055137Z
UID:10000142-1765704600-1765704600@www.redeemerlutheranpensacola.com
SUMMARY:Sunday Worship w/ Little Lambs singing
DESCRIPTION:
URL:https://www.redeemerlutheranpensacola.com/event/sunday-worship-w-little-lambs-singing-3
LOCATION:Redeemer Lutheran Church and School\, 333 Commerce St.\, Pensacola\, FL\, 32507\, United States
CATEGORIES:Church Events
END:VEVENT
BEGIN:VEVENT
DTSTART;TZID=America/Chicago:20251215T151500
DTEND;TZID=America/Chicago:20251215T154500
DTSTAMP:20260419T234614
CREATED:20250916T055150Z
LAST-MODIFIED:20250916T055150Z
UID:10000144-1765811700-1765813500@www.redeemerlutheranpensacola.com
SUMMARY:Little Lambs
DESCRIPTION:
URL:https://www.redeemerlutheranpensacola.com/event/little-lambs-14
LOCATION:Redeemer Lutheran Church and School\, 333 Commerce St.\, Pensacola\, FL\, 32507\, United States
CATEGORIES:Church Events
END:VEVENT
BEGIN:VEVENT
DTSTART;TZID=America/Chicago:20251216T093000
DTEND;TZID=America/Chicago:20251216T093000
DTSTAMP:20260419T234614
CREATED:20250916T055151Z
LAST-MODIFIED:20250916T055151Z
UID:10000145-1765877400-1765877400@www.redeemerlutheranpensacola.com
SUMMARY:Ladies Bible Study in AH
DESCRIPTION:
URL:https://www.redeemerlutheranpensacola.com/event/ladies-bible-study-in-ah-7
LOCATION:Redeemer Lutheran Church and School\, 333 Commerce St.\, Pensacola\, FL\, 32507\, United States
CATEGORIES:Church Events
END:VEVENT
BEGIN:VEVENT
DTSTART;TZID=America/Chicago:20251217T070000
DTEND;TZID=America/Chicago:20251217T070000
DTSTAMP:20260419T234614
CREATED:20250916T055155Z
LAST-MODIFIED:20251001T011349Z
UID:10000149-1765954800-1765954800@www.redeemerlutheranpensacola.com
SUMMARY:MBB @ Crazy Horse Cafe
DESCRIPTION:
URL:https://www.redeemerlutheranpensacola.com/event/mens-breakfast-bible-study-the-gathering-14
CATEGORIES:Church Events
END:VEVENT
BEGIN:VEVENT
DTSTART;TZID=America/Chicago:20251221T081500
DTEND;TZID=America/Chicago:20251221T081500
DTSTAMP:20260419T234614
CREATED:20250916T055158Z
LAST-MODIFIED:20250916T055158Z
UID:10000153-1766304900-1766304900@www.redeemerlutheranpensacola.com
SUMMARY:Adult Bible Studies & Children's Sunday School
DESCRIPTION:
URL:https://www.redeemerlutheranpensacola.com/event/adult-bible-studies-childrens-sunday-school-14
CATEGORIES:Church Events
END:VEVENT
BEGIN:VEVENT
DTSTART;TZID=America/Chicago:20251221T093000
DTEND;TZID=America/Chicago:20251221T093000
DTSTAMP:20260419T234614
CREATED:20250916T055208Z
LAST-MODIFIED:20250916T055208Z
UID:10000154-1766309400-1766309400@www.redeemerlutheranpensacola.com
SUMMARY:Sunday Worship
DESCRIPTION:
URL:https://www.redeemerlutheranpensacola.com/event/sunday-worship-11
LOCATION:Redeemer Lutheran Church and School\, 333 Commerce St.\, Pensacola\, FL\, 32507\, United States
CATEGORIES:Church Events
END:VEVENT
BEGIN:VEVENT
DTSTART;TZID=America/Chicago:20251224T070000
DTEND;TZID=America/Chicago:20251224T070000
DTSTAMP:20260419T234614
CREATED:20250916T055210Z
LAST-MODIFIED:20251001T011355Z
UID:10000157-1766559600-1766559600@www.redeemerlutheranpensacola.com
SUMMARY:MBB @ Crazy Horse Cafe
DESCRIPTION:
URL:https://www.redeemerlutheranpensacola.com/event/mens-breakfast-bible-study-the-gathering-15
CATEGORIES:Church Events
END:VEVENT
BEGIN:VEVENT
DTSTART;VALUE=DATE:20251225
DTEND;VALUE=DATE:20251226
DTSTAMP:20260419T234614
CREATED:20250916T055209Z
LAST-MODIFIED:20250916T055209Z
UID:10000156-1766620800-1766707199@www.redeemerlutheranpensacola.com
SUMMARY:Church Office Closed
DESCRIPTION:
URL:https://www.redeemerlutheranpensacola.com/event/church-office-closed
CATEGORIES:Church Events
END:VEVENT
BEGIN:VEVENT
DTSTART;TZID=America/Chicago:20251228T081500
DTEND;TZID=America/Chicago:20251228T081500
DTSTAMP:20260419T234614
CREATED:20250916T055211Z
LAST-MODIFIED:20250916T055211Z
UID:10000158-1766909700-1766909700@www.redeemerlutheranpensacola.com
SUMMARY:Adult Bible Studies & Children's Sunday School
DESCRIPTION:
URL:https://www.redeemerlutheranpensacola.com/event/adult-bible-studies-childrens-sunday-school-15
CATEGORIES:Church Events
END:VEVENT
BEGIN:VEVENT
DTSTART;TZID=America/Chicago:20251228T093000
DTEND;TZID=America/Chicago:20251228T093000
DTSTAMP:20260419T234614
CREATED:20250916T055215Z
LAST-MODIFIED:20250916T055215Z
UID:10000159-1766914200-1766914200@www.redeemerlutheranpensacola.com
SUMMARY:Sunday Worship
DESCRIPTION:
URL:https://www.redeemerlutheranpensacola.com/event/sunday-worship-12
LOCATION:Redeemer Lutheran Church and School\, 333 Commerce St.\, Pensacola\, FL\, 32507\, United States
CATEGORIES:Church Events
END:VEVENT
END:VCALENDAR