BEGIN:VCALENDAR
VERSION:2.0
PRODID:-//Redeemer Lutheran Church - Pensacola - ECPv6.15.17.1//NONSGML v1.0//EN
CALSCALE:GREGORIAN
METHOD:PUBLISH
X-ORIGINAL-URL:https://www.redeemerlutheranpensacola.com
X-WR-CALDESC:Events for Redeemer Lutheran Church - Pensacola
REFRESH-INTERVAL;VALUE=DURATION:PT1H
X-Robots-Tag:noindex
X-PUBLISHED-TTL:PT1H
BEGIN:VTIMEZONE
TZID:America/Chicago
BEGIN:DAYLIGHT
TZOFFSETFROM:-0600
TZOFFSETTO:-0500
TZNAME:CDT
DTSTART:20250309T080000
END:DAYLIGHT
BEGIN:STANDARD
TZOFFSETFROM:-0500
TZOFFSETTO:-0600
TZNAME:CST
DTSTART:20251102T070000
END:STANDARD
BEGIN:DAYLIGHT
TZOFFSETFROM:-0600
TZOFFSETTO:-0500
TZNAME:CDT
DTSTART:20260308T080000
END:DAYLIGHT
BEGIN:STANDARD
TZOFFSETFROM:-0500
TZOFFSETTO:-0600
TZNAME:CST
DTSTART:20261101T070000
END:STANDARD
BEGIN:DAYLIGHT
TZOFFSETFROM:-0600
TZOFFSETTO:-0500
TZNAME:CDT
DTSTART:20270314T080000
END:DAYLIGHT
BEGIN:STANDARD
TZOFFSETFROM:-0500
TZOFFSETTO:-0600
TZNAME:CST
DTSTART:20271107T070000
END:STANDARD
END:VTIMEZONE
BEGIN:VEVENT
DTSTART;TZID=America/Chicago:20260708T070000
DTEND;TZID=America/Chicago:20260708T070000
DTSTAMP:20260419T151956
CREATED:20250916T055410Z
LAST-MODIFIED:20251001T012115Z
UID:10000224-1783494000-1783494000@www.redeemerlutheranpensacola.com
SUMMARY:MBB @ Crazy Horse Cafe
DESCRIPTION:
URL:https://www.redeemerlutheranpensacola.com/event/mens-breakfast-bible-study-the-gathering-43
CATEGORIES:Church Events
END:VEVENT
BEGIN:VEVENT
DTSTART;TZID=America/Chicago:20260711T100000
DTEND;TZID=America/Chicago:20260711T100000
DTSTAMP:20260419T151956
CREATED:20250916T055411Z
LAST-MODIFIED:20250916T055411Z
UID:10000225-1783764000-1783764000@www.redeemerlutheranpensacola.com
SUMMARY:Men's Study Group of the Lutheran Confessions @ Immanuel
DESCRIPTION:
URL:https://www.redeemerlutheranpensacola.com/event/mens-study-group-of-the-lutheran-confessions-immanuel-9
LOCATION:Immanuel Lutheran Church\, 24 W. Wright St.\, Pensacola\, FL\, 32501\, United States
CATEGORIES:Church Events
END:VEVENT
BEGIN:VEVENT
DTSTART;TZID=America/Chicago:20260712T110000
DTEND;TZID=America/Chicago:20260712T140000
DTSTAMP:20260419T151956
CREATED:20250916T055412Z
LAST-MODIFIED:20250916T055412Z
UID:10000226-1783854000-1783864800@www.redeemerlutheranpensacola.com
SUMMARY:Camp Dixie Chicken Dinner
DESCRIPTION:
URL:https://www.redeemerlutheranpensacola.com/event/camp-dixie-chicken-dinner-9
LOCATION:Camp Dixie\, 29711 Josephine Drive\, Elberta\, AL\, 36530\, United States
CATEGORIES:Church Events
END:VEVENT
BEGIN:VEVENT
DTSTART;TZID=America/Chicago:20260715T070000
DTEND;TZID=America/Chicago:20260715T070000
DTSTAMP:20260419T151956
CREATED:20250916T055412Z
LAST-MODIFIED:20251001T012121Z
UID:10000227-1784098800-1784098800@www.redeemerlutheranpensacola.com
SUMMARY:MBB @ Crazy Horse Cafe
DESCRIPTION:
URL:https://www.redeemerlutheranpensacola.com/event/mens-breakfast-bible-study-the-gathering-44
CATEGORIES:Church Events
END:VEVENT
BEGIN:VEVENT
DTSTART;TZID=America/Chicago:20260716T160000
DTEND;TZID=America/Chicago:20260716T160000
DTSTAMP:20260419T151956
CREATED:20250916T055413Z
LAST-MODIFIED:20250916T055413Z
UID:10000228-1784217600-1784217600@www.redeemerlutheranpensacola.com
SUMMARY:B.O.C.E. in AH
DESCRIPTION:
URL:https://www.redeemerlutheranpensacola.com/event/b-o-c-e-in-ah-11
LOCATION:Redeemer Lutheran Church and School\, 333 Commerce St.\, Pensacola\, FL\, 32507\, United States
CATEGORIES:Church Events
END:VEVENT
BEGIN:VEVENT
DTSTART;TZID=America/Chicago:20260722T070000
DTEND;TZID=America/Chicago:20260722T070000
DTSTAMP:20260419T151956
CREATED:20250916T055421Z
LAST-MODIFIED:20251001T012126Z
UID:10000229-1784703600-1784703600@www.redeemerlutheranpensacola.com
SUMMARY:MBB @ Crazy Horse Cafe
DESCRIPTION:
URL:https://www.redeemerlutheranpensacola.com/event/mens-breakfast-bible-study-the-gathering-45
CATEGORIES:Church Events
END:VEVENT
BEGIN:VEVENT
DTSTART;TZID=America/Chicago:20260729T070000
DTEND;TZID=America/Chicago:20260729T070000
DTSTAMP:20260419T151956
CREATED:20250916T055422Z
LAST-MODIFIED:20251001T012131Z
UID:10000230-1785308400-1785308400@www.redeemerlutheranpensacola.com
SUMMARY:MBB @ Crazy Horse Cafe
DESCRIPTION:
URL:https://www.redeemerlutheranpensacola.com/event/mens-breakfast-bible-study-the-gathering-46
CATEGORIES:Church Events
END:VEVENT
BEGIN:VEVENT
DTSTART;TZID=America/Chicago:20260805T070000
DTEND;TZID=America/Chicago:20260805T070000
DTSTAMP:20260419T151956
CREATED:20250916T055423Z
LAST-MODIFIED:20251001T012213Z
UID:10000231-1785913200-1785913200@www.redeemerlutheranpensacola.com
SUMMARY:MBB @ Crazy Horse Cafe
DESCRIPTION:
URL:https://www.redeemerlutheranpensacola.com/event/mens-breakfast-bible-study-the-gathering-47
CATEGORIES:Church Events
END:VEVENT
BEGIN:VEVENT
DTSTART;TZID=America/Chicago:20260808T100000
DTEND;TZID=America/Chicago:20260808T100000
DTSTAMP:20260419T151956
CREATED:20250916T055423Z
LAST-MODIFIED:20250916T055423Z
UID:10000232-1786183200-1786183200@www.redeemerlutheranpensacola.com
SUMMARY:Men's Study Group of the Lutheran Confessions @ Immanuel
DESCRIPTION:
URL:https://www.redeemerlutheranpensacola.com/event/mens-study-group-of-the-lutheran-confessions-immanuel-10
LOCATION:Immanuel Lutheran Church\, 24 W. Wright St.\, Pensacola\, FL\, 32501\, United States
CATEGORIES:Church Events
END:VEVENT
BEGIN:VEVENT
DTSTART;TZID=America/Chicago:20260809T110000
DTEND;TZID=America/Chicago:20260809T140000
DTSTAMP:20260419T151956
CREATED:20250916T055424Z
LAST-MODIFIED:20250916T055424Z
UID:10000233-1786273200-1786284000@www.redeemerlutheranpensacola.com
SUMMARY:Camp Dixie Chicken Dinner
DESCRIPTION:
URL:https://www.redeemerlutheranpensacola.com/event/camp-dixie-chicken-dinner-10
LOCATION:Camp Dixie\, 29711 Josephine Drive\, Elberta\, AL\, 36530\, United States
CATEGORIES:Church Events
END:VEVENT
BEGIN:VEVENT
DTSTART;TZID=America/Chicago:20260812T070000
DTEND;TZID=America/Chicago:20260812T070000
DTSTAMP:20260419T151956
CREATED:20250916T055427Z
LAST-MODIFIED:20251001T012218Z
UID:10000234-1786518000-1786518000@www.redeemerlutheranpensacola.com
SUMMARY:MBB @ Crazy Horse Cafe
DESCRIPTION:
URL:https://www.redeemerlutheranpensacola.com/event/mens-breakfast-bible-study-the-gathering-48
CATEGORIES:Church Events
END:VEVENT
BEGIN:VEVENT
DTSTART;TZID=America/Chicago:20260819T070000
DTEND;TZID=America/Chicago:20260819T070000
DTSTAMP:20260419T151956
CREATED:20250916T055428Z
LAST-MODIFIED:20251001T012224Z
UID:10000235-1787122800-1787122800@www.redeemerlutheranpensacola.com
SUMMARY:MBB @ Crazy Horse Cafe
DESCRIPTION:
URL:https://www.redeemerlutheranpensacola.com/event/mens-breakfast-bible-study-the-gathering-49
CATEGORIES:Church Events
END:VEVENT
BEGIN:VEVENT
DTSTART;TZID=America/Chicago:20260826T070000
DTEND;TZID=America/Chicago:20260826T070000
DTSTAMP:20260419T151956
CREATED:20250916T055428Z
LAST-MODIFIED:20251001T012230Z
UID:10000236-1787727600-1787727600@www.redeemerlutheranpensacola.com
SUMMARY:MBB @ Crazy Horse Cafe
DESCRIPTION:
URL:https://www.redeemerlutheranpensacola.com/event/mens-breakfast-bible-study-the-gathering-50
CATEGORIES:Church Events
END:VEVENT
BEGIN:VEVENT
DTSTART;TZID=America/Chicago:20260902T070000
DTEND;TZID=America/Chicago:20260902T070000
DTSTAMP:20260419T151956
CREATED:20250916T055429Z
LAST-MODIFIED:20251001T012234Z
UID:10000237-1788332400-1788332400@www.redeemerlutheranpensacola.com
SUMMARY:MBB @ Crazy Horse Cafe
DESCRIPTION:
URL:https://www.redeemerlutheranpensacola.com/event/mens-breakfast-bible-study-the-gathering-51
CATEGORIES:Church Events
END:VEVENT
BEGIN:VEVENT
DTSTART;TZID=America/Chicago:20260909T070000
DTEND;TZID=America/Chicago:20260909T070000
DTSTAMP:20260419T151956
CREATED:20250916T055430Z
LAST-MODIFIED:20251001T012239Z
UID:10000238-1788937200-1788937200@www.redeemerlutheranpensacola.com
SUMMARY:MBB @ Crazy Horse Cafe
DESCRIPTION:
URL:https://www.redeemerlutheranpensacola.com/event/mens-breakfast-bible-study-the-gathering-52
CATEGORIES:Church Events
END:VEVENT
BEGIN:VEVENT
DTSTART;TZID=America/Chicago:20260912T100000
DTEND;TZID=America/Chicago:20260912T100000
DTSTAMP:20260419T151956
CREATED:20250916T055439Z
LAST-MODIFIED:20250916T055439Z
UID:10000239-1789207200-1789207200@www.redeemerlutheranpensacola.com
SUMMARY:Men's Study Group of the Lutheran Confessions @ Immanuel
DESCRIPTION:
URL:https://www.redeemerlutheranpensacola.com/event/mens-study-group-of-the-lutheran-confessions-immanuel-11
LOCATION:Immanuel Lutheran Church\, 24 W. Wright St.\, Pensacola\, FL\, 32501\, United States
CATEGORIES:Church Events
END:VEVENT
BEGIN:VEVENT
DTSTART;TZID=America/Chicago:20260913T110000
DTEND;TZID=America/Chicago:20260913T140000
DTSTAMP:20260419T151956
CREATED:20250916T055440Z
LAST-MODIFIED:20250916T055440Z
UID:10000240-1789297200-1789308000@www.redeemerlutheranpensacola.com
SUMMARY:Camp Dixie Chicken Dinner
DESCRIPTION:
URL:https://www.redeemerlutheranpensacola.com/event/camp-dixie-chicken-dinner-11
LOCATION:Camp Dixie\, 29711 Josephine Drive\, Elberta\, AL\, 36530\, United States
CATEGORIES:Church Events
END:VEVENT
BEGIN:VEVENT
DTSTART;TZID=America/Chicago:20260916T070000
DTEND;TZID=America/Chicago:20260916T070000
DTSTAMP:20260419T151956
CREATED:20250916T055440Z
LAST-MODIFIED:20251001T012245Z
UID:10000241-1789542000-1789542000@www.redeemerlutheranpensacola.com
SUMMARY:MBB @ Crazy Horse Cafe
DESCRIPTION:
URL:https://www.redeemerlutheranpensacola.com/event/mens-breakfast-bible-study-the-gathering-53
CATEGORIES:Church Events
END:VEVENT
BEGIN:VEVENT
DTSTART;TZID=America/Chicago:20260923T070000
DTEND;TZID=America/Chicago:20260923T070000
DTSTAMP:20260419T151956
CREATED:20250916T055441Z
LAST-MODIFIED:20251001T012249Z
UID:10000242-1790146800-1790146800@www.redeemerlutheranpensacola.com
SUMMARY:MBB @ Crazy Horse Cafe
DESCRIPTION:
URL:https://www.redeemerlutheranpensacola.com/event/mens-breakfast-bible-study-the-gathering-54
CATEGORIES:Church Events
END:VEVENT
BEGIN:VEVENT
DTSTART;TZID=America/Chicago:20260930T070000
DTEND;TZID=America/Chicago:20260930T070000
DTSTAMP:20260419T151956
CREATED:20250916T055442Z
LAST-MODIFIED:20251001T012259Z
UID:10000243-1790751600-1790751600@www.redeemerlutheranpensacola.com
SUMMARY:MBB @ Crazy Horse Cafe
DESCRIPTION:
URL:https://www.redeemerlutheranpensacola.com/event/mens-breakfast-bible-study-the-gathering-55
CATEGORIES:Church Events
END:VEVENT
BEGIN:VEVENT
DTSTART;TZID=America/Chicago:20261007T070000
DTEND;TZID=America/Chicago:20261007T070000
DTSTAMP:20260419T151956
CREATED:20250916T055444Z
LAST-MODIFIED:20251001T012306Z
UID:10000244-1791356400-1791356400@www.redeemerlutheranpensacola.com
SUMMARY:MBB @ Crazy Horse Cafe
DESCRIPTION:
URL:https://www.redeemerlutheranpensacola.com/event/mens-breakfast-bible-study-the-gathering-56
CATEGORIES:Church Events
END:VEVENT
BEGIN:VEVENT
DTSTART;TZID=America/Chicago:20261010T100000
DTEND;TZID=America/Chicago:20261010T100000
DTSTAMP:20260419T151956
CREATED:20250916T055445Z
LAST-MODIFIED:20250916T055445Z
UID:10000245-1791626400-1791626400@www.redeemerlutheranpensacola.com
SUMMARY:Men's Study Group of the Lutheran Confessions @ Immanuel
DESCRIPTION:
URL:https://www.redeemerlutheranpensacola.com/event/mens-study-group-of-the-lutheran-confessions-immanuel-12
LOCATION:Immanuel Lutheran Church\, 24 W. Wright St.\, Pensacola\, FL\, 32501\, United States
CATEGORIES:Church Events
END:VEVENT
BEGIN:VEVENT
DTSTART;TZID=America/Chicago:20261011T110000
DTEND;TZID=America/Chicago:20261011T140000
DTSTAMP:20260419T151956
CREATED:20250916T055445Z
LAST-MODIFIED:20250916T055445Z
UID:10000246-1791716400-1791727200@www.redeemerlutheranpensacola.com
SUMMARY:Camp Dixie Chicken Dinner
DESCRIPTION:
URL:https://www.redeemerlutheranpensacola.com/event/camp-dixie-chicken-dinner-12
LOCATION:Camp Dixie\, 29711 Josephine Drive\, Elberta\, AL\, 36530\, United States
CATEGORIES:Church Events
END:VEVENT
BEGIN:VEVENT
DTSTART;TZID=America/Chicago:20261014T070000
DTEND;TZID=America/Chicago:20261014T070000
DTSTAMP:20260419T151957
CREATED:20250916T055446Z
LAST-MODIFIED:20251001T012312Z
UID:10000247-1791961200-1791961200@www.redeemerlutheranpensacola.com
SUMMARY:MBB @ Crazy Horse Cafe
DESCRIPTION:
URL:https://www.redeemerlutheranpensacola.com/event/mens-breakfast-bible-study-the-gathering-57
CATEGORIES:Church Events
END:VEVENT
BEGIN:VEVENT
DTSTART;TZID=America/Chicago:20261021T070000
DTEND;TZID=America/Chicago:20261021T070000
DTSTAMP:20260419T151957
CREATED:20250916T055447Z
LAST-MODIFIED:20251001T012318Z
UID:10000248-1792566000-1792566000@www.redeemerlutheranpensacola.com
SUMMARY:MBB @ Crazy Horse Cafe
DESCRIPTION:
URL:https://www.redeemerlutheranpensacola.com/event/mens-breakfast-bible-study-the-gathering-58
CATEGORIES:Church Events
END:VEVENT
BEGIN:VEVENT
DTSTART;TZID=America/Chicago:20261028T070000
DTEND;TZID=America/Chicago:20261028T070000
DTSTAMP:20260419T151957
CREATED:20250916T055458Z
LAST-MODIFIED:20251001T012324Z
UID:10000249-1793170800-1793170800@www.redeemerlutheranpensacola.com
SUMMARY:MBB @ Crazy Horse Cafe
DESCRIPTION:
URL:https://www.redeemerlutheranpensacola.com/event/mens-breakfast-bible-study-the-gathering-59
CATEGORIES:Church Events
END:VEVENT
BEGIN:VEVENT
DTSTART;TZID=America/Chicago:20261104T070000
DTEND;TZID=America/Chicago:20261104T070000
DTSTAMP:20260419T151957
CREATED:20250916T055459Z
LAST-MODIFIED:20251001T012331Z
UID:10000250-1793775600-1793775600@www.redeemerlutheranpensacola.com
SUMMARY:MBB @ Crazy Horse Cafe
DESCRIPTION:
URL:https://www.redeemerlutheranpensacola.com/event/mens-breakfast-bible-study-the-gathering-60
CATEGORIES:Church Events
END:VEVENT
BEGIN:VEVENT
DTSTART;TZID=America/Chicago:20261108T110000
DTEND;TZID=America/Chicago:20261108T140000
DTSTAMP:20260419T151957
CREATED:20250916T055459Z
LAST-MODIFIED:20250916T055459Z
UID:10000251-1794135600-1794146400@www.redeemerlutheranpensacola.com
SUMMARY:Camp Dixie Chicken Dinner
DESCRIPTION:
URL:https://www.redeemerlutheranpensacola.com/event/camp-dixie-chicken-dinner-13
LOCATION:Camp Dixie\, 29711 Josephine Drive\, Elberta\, AL\, 36530\, United States
CATEGORIES:Church Events
END:VEVENT
BEGIN:VEVENT
DTSTART;TZID=America/Chicago:20261111T070000
DTEND;TZID=America/Chicago:20261111T070000
DTSTAMP:20260419T151957
CREATED:20250916T055500Z
LAST-MODIFIED:20251001T012338Z
UID:10000252-1794380400-1794380400@www.redeemerlutheranpensacola.com
SUMMARY:MBB @ Crazy Horse Cafe
DESCRIPTION:
URL:https://www.redeemerlutheranpensacola.com/event/mens-breakfast-bible-study-the-gathering-61
CATEGORIES:Church Events
END:VEVENT
BEGIN:VEVENT
DTSTART;TZID=America/Chicago:20261114T100000
DTEND;TZID=America/Chicago:20261114T100000
DTSTAMP:20260419T151957
CREATED:20250916T055501Z
LAST-MODIFIED:20250916T055501Z
UID:10000253-1794650400-1794650400@www.redeemerlutheranpensacola.com
SUMMARY:Men's Study Group of the Lutheran Confessions @ Immanuel
DESCRIPTION:
URL:https://www.redeemerlutheranpensacola.com/event/mens-study-group-of-the-lutheran-confessions-immanuel-13
LOCATION:Immanuel Lutheran Church\, 24 W. Wright St.\, Pensacola\, FL\, 32501\, United States
CATEGORIES:Church Events
END:VEVENT
END:VCALENDAR