BEGIN:VCALENDAR
VERSION:2.0
PRODID:-//Redeemer Lutheran Church - Pensacola - ECPv6.15.17.1//NONSGML v1.0//EN
CALSCALE:GREGORIAN
METHOD:PUBLISH
X-WR-CALNAME:Redeemer Lutheran Church - Pensacola
X-ORIGINAL-URL:https://www.redeemerlutheranpensacola.com
X-WR-CALDESC:Events for Redeemer Lutheran Church - Pensacola
REFRESH-INTERVAL;VALUE=DURATION:PT1H
X-Robots-Tag:noindex
X-PUBLISHED-TTL:PT1H
BEGIN:VTIMEZONE
TZID:America/Chicago
BEGIN:DAYLIGHT
TZOFFSETFROM:-0600
TZOFFSETTO:-0500
TZNAME:CDT
DTSTART:20250309T080000
END:DAYLIGHT
BEGIN:STANDARD
TZOFFSETFROM:-0500
TZOFFSETTO:-0600
TZNAME:CST
DTSTART:20251102T070000
END:STANDARD
BEGIN:DAYLIGHT
TZOFFSETFROM:-0600
TZOFFSETTO:-0500
TZNAME:CDT
DTSTART:20260308T080000
END:DAYLIGHT
BEGIN:STANDARD
TZOFFSETFROM:-0500
TZOFFSETTO:-0600
TZNAME:CST
DTSTART:20261101T070000
END:STANDARD
BEGIN:DAYLIGHT
TZOFFSETFROM:-0600
TZOFFSETTO:-0500
TZNAME:CDT
DTSTART:20270314T080000
END:DAYLIGHT
BEGIN:STANDARD
TZOFFSETFROM:-0500
TZOFFSETTO:-0600
TZNAME:CST
DTSTART:20271107T070000
END:STANDARD
END:VTIMEZONE
BEGIN:VEVENT
DTSTART;TZID=America/Chicago:20260506T070000
DTEND;TZID=America/Chicago:20260506T070000
DTSTAMP:20260419T095829
CREATED:20250916T055324Z
LAST-MODIFIED:20251001T011819Z
UID:10000203-1778050800-1778050800@www.redeemerlutheranpensacola.com
SUMMARY:MBB @ Crazy Horse Cafe
DESCRIPTION:
URL:https://www.redeemerlutheranpensacola.com/event/mens-breakfast-bible-study-the-gathering-34
CATEGORIES:Church Events
END:VEVENT
BEGIN:VEVENT
DTSTART;TZID=America/Chicago:20260509T100000
DTEND;TZID=America/Chicago:20260509T100000
DTSTAMP:20260419T095829
CREATED:20250916T055336Z
LAST-MODIFIED:20250916T055336Z
UID:10000205-1778320800-1778320800@www.redeemerlutheranpensacola.com
SUMMARY:Men's Study Group of the Lutheran Confessions @ Immanuel
DESCRIPTION:
URL:https://www.redeemerlutheranpensacola.com/event/mens-study-group-of-the-lutheran-confessions-immanuel-7
LOCATION:Immanuel Lutheran Church\, 24 W. Wright St.\, Pensacola\, FL\, 32501\, United States
CATEGORIES:Church Events
END:VEVENT
BEGIN:VEVENT
DTSTART;TZID=America/Chicago:20260510T110000
DTEND;TZID=America/Chicago:20260510T140000
DTSTAMP:20260419T095829
CREATED:20250916T055336Z
LAST-MODIFIED:20250916T055336Z
UID:10000206-1778410800-1778421600@www.redeemerlutheranpensacola.com
SUMMARY:Camp Dixie Chicken Dinner
DESCRIPTION:
URL:https://www.redeemerlutheranpensacola.com/event/camp-dixie-chicken-dinner-7
LOCATION:Camp Dixie\, 29711 Josephine Drive\, Elberta\, AL\, 36530\, United States
CATEGORIES:Church Events
END:VEVENT
BEGIN:VEVENT
DTSTART;TZID=America/Chicago:20260513T070000
DTEND;TZID=America/Chicago:20260513T070000
DTSTAMP:20260419T095829
CREATED:20250916T055338Z
LAST-MODIFIED:20251001T011825Z
UID:10000208-1778655600-1778655600@www.redeemerlutheranpensacola.com
SUMMARY:MBB @ Crazy Horse Cafe
DESCRIPTION:
URL:https://www.redeemerlutheranpensacola.com/event/mens-breakfast-bible-study-the-gathering-35
CATEGORIES:Church Events
END:VEVENT
BEGIN:VEVENT
DTSTART;TZID=America/Chicago:20260520T070000
DTEND;TZID=America/Chicago:20260520T070000
DTSTAMP:20260419T095829
CREATED:20250916T055342Z
LAST-MODIFIED:20251001T011832Z
UID:10000210-1779260400-1779260400@www.redeemerlutheranpensacola.com
SUMMARY:MBB @ Crazy Horse Cafe
DESCRIPTION:
URL:https://www.redeemerlutheranpensacola.com/event/mens-breakfast-bible-study-the-gathering-36
CATEGORIES:Church Events
END:VEVENT
BEGIN:VEVENT
DTSTART;TZID=America/Chicago:20260521T160000
DTEND;TZID=America/Chicago:20260521T160000
DTSTAMP:20260419T095829
CREATED:20250916T055342Z
LAST-MODIFIED:20250916T055342Z
UID:10000211-1779379200-1779379200@www.redeemerlutheranpensacola.com
SUMMARY:B.O.C.E. in AH
DESCRIPTION:
URL:https://www.redeemerlutheranpensacola.com/event/b-o-c-e-in-ah-9
LOCATION:Redeemer Lutheran Church and School\, 333 Commerce St.\, Pensacola\, FL\, 32507\, United States
CATEGORIES:Church Events
END:VEVENT
BEGIN:VEVENT
DTSTART;VALUE=DATE:20260523
DTEND;VALUE=DATE:20260606
DTSTAMP:20260419T095829
CREATED:20250916T055344Z
LAST-MODIFIED:20250916T055344Z
UID:10000213-1779494400-1780703999@www.redeemerlutheranpensacola.com
SUMMARY:Setup for LWML Summer Sale in Gym and AH
DESCRIPTION:
URL:https://www.redeemerlutheranpensacola.com/event/setup-for-lwml-summer-sale-in-gym-and-ah
CATEGORIES:Church Events
END:VEVENT
BEGIN:VEVENT
DTSTART;TZID=America/Chicago:20260527T070000
DTEND;TZID=America/Chicago:20260527T070000
DTSTAMP:20260419T095829
CREATED:20250916T055352Z
LAST-MODIFIED:20251001T011838Z
UID:10000214-1779865200-1779865200@www.redeemerlutheranpensacola.com
SUMMARY:MBB @ Crazy Horse Cafe
DESCRIPTION:
URL:https://www.redeemerlutheranpensacola.com/event/mens-breakfast-bible-study-the-gathering-37
CATEGORIES:Church Events
END:VEVENT
END:VCALENDAR