BEGIN:VCALENDAR
VERSION:2.0
PRODID:-//Redeemer Lutheran Church - Pensacola - ECPv6.15.17.1//NONSGML v1.0//EN
CALSCALE:GREGORIAN
METHOD:PUBLISH
X-WR-CALNAME:Redeemer Lutheran Church - Pensacola
X-ORIGINAL-URL:https://www.redeemerlutheranpensacola.com
X-WR-CALDESC:Events for Redeemer Lutheran Church - Pensacola
REFRESH-INTERVAL;VALUE=DURATION:PT1H
X-Robots-Tag:noindex
X-PUBLISHED-TTL:PT1H
BEGIN:VTIMEZONE
TZID:America/Chicago
BEGIN:DAYLIGHT
TZOFFSETFROM:-0600
TZOFFSETTO:-0500
TZNAME:CDT
DTSTART:20250309T080000
END:DAYLIGHT
BEGIN:STANDARD
TZOFFSETFROM:-0500
TZOFFSETTO:-0600
TZNAME:CST
DTSTART:20251102T070000
END:STANDARD
BEGIN:DAYLIGHT
TZOFFSETFROM:-0600
TZOFFSETTO:-0500
TZNAME:CDT
DTSTART:20260308T080000
END:DAYLIGHT
BEGIN:STANDARD
TZOFFSETFROM:-0500
TZOFFSETTO:-0600
TZNAME:CST
DTSTART:20261101T070000
END:STANDARD
BEGIN:DAYLIGHT
TZOFFSETFROM:-0600
TZOFFSETTO:-0500
TZNAME:CDT
DTSTART:20270314T080000
END:DAYLIGHT
BEGIN:STANDARD
TZOFFSETFROM:-0500
TZOFFSETTO:-0600
TZNAME:CST
DTSTART:20271107T070000
END:STANDARD
END:VTIMEZONE
BEGIN:VEVENT
DTSTART;TZID=America/Chicago:20260304T070000
DTEND;TZID=America/Chicago:20260304T070000
DTSTAMP:20260419T095828
CREATED:20250916T055255Z
LAST-MODIFIED:20251001T011725Z
UID:10000184-1772607600-1772607600@www.redeemerlutheranpensacola.com
SUMMARY:MBB @ Crazy Horse Cafe
DESCRIPTION:
URL:https://www.redeemerlutheranpensacola.com/event/mens-breakfast-bible-study-the-gathering-25
CATEGORIES:Church Events
END:VEVENT
BEGIN:VEVENT
DTSTART;TZID=America/Chicago:20260308T110000
DTEND;TZID=America/Chicago:20260308T140000
DTSTAMP:20260419T095828
CREATED:20250916T055256Z
LAST-MODIFIED:20250916T055256Z
UID:10000185-1772967600-1772978400@www.redeemerlutheranpensacola.com
SUMMARY:Camp Dixie Chicken Dinner
DESCRIPTION:
URL:https://www.redeemerlutheranpensacola.com/event/camp-dixie-chicken-dinner-5
LOCATION:Camp Dixie\, 29711 Josephine Drive\, Elberta\, AL\, 36530\, United States
CATEGORIES:Church Events
END:VEVENT
BEGIN:VEVENT
DTSTART;TZID=America/Chicago:20260311T070000
DTEND;TZID=America/Chicago:20260311T070000
DTSTAMP:20260419T095828
CREATED:20250916T055256Z
LAST-MODIFIED:20251001T011730Z
UID:10000186-1773212400-1773212400@www.redeemerlutheranpensacola.com
SUMMARY:MBB @ Crazy Horse Cafe
DESCRIPTION:
URL:https://www.redeemerlutheranpensacola.com/event/mens-breakfast-bible-study-the-gathering-26
CATEGORIES:Church Events
END:VEVENT
BEGIN:VEVENT
DTSTART;TZID=America/Chicago:20260314T100000
DTEND;TZID=America/Chicago:20260314T100000
DTSTAMP:20260419T095828
CREATED:20250916T055258Z
LAST-MODIFIED:20250916T055258Z
UID:10000188-1773482400-1773482400@www.redeemerlutheranpensacola.com
SUMMARY:Men's Study Group of the Lutheran Confessions @ Immanuel
DESCRIPTION:
URL:https://www.redeemerlutheranpensacola.com/event/mens-study-group-of-the-lutheran-confessions-immanuel-5
LOCATION:Immanuel Lutheran Church\, 24 W. Wright St.\, Pensacola\, FL\, 32501\, United States
CATEGORIES:Church Events
END:VEVENT
BEGIN:VEVENT
DTSTART;TZID=America/Chicago:20260318T070000
DTEND;TZID=America/Chicago:20260318T070000
DTSTAMP:20260419T095828
CREATED:20250916T055303Z
LAST-MODIFIED:20251001T011736Z
UID:10000190-1773817200-1773817200@www.redeemerlutheranpensacola.com
SUMMARY:MBB @ Crazy Horse Cafe
DESCRIPTION:
URL:https://www.redeemerlutheranpensacola.com/event/mens-breakfast-bible-study-the-gathering-27
CATEGORIES:Church Events
END:VEVENT
BEGIN:VEVENT
DTSTART;TZID=America/Chicago:20260319T160000
DTEND;TZID=America/Chicago:20260319T160000
DTSTAMP:20260419T095828
CREATED:20250916T055303Z
LAST-MODIFIED:20250916T055303Z
UID:10000191-1773936000-1773936000@www.redeemerlutheranpensacola.com
SUMMARY:B.O.C.E. in AH
DESCRIPTION:
URL:https://www.redeemerlutheranpensacola.com/event/b-o-c-e-in-ah-7
LOCATION:Redeemer Lutheran Church and School\, 333 Commerce St.\, Pensacola\, FL\, 32507\, United States
CATEGORIES:Church Events
END:VEVENT
BEGIN:VEVENT
DTSTART;TZID=America/Chicago:20260325T070000
DTEND;TZID=America/Chicago:20260325T070000
DTSTAMP:20260419T095828
CREATED:20250916T055304Z
LAST-MODIFIED:20251001T011742Z
UID:10000192-1774422000-1774422000@www.redeemerlutheranpensacola.com
SUMMARY:MBB @ Crazy Horse Cafe
DESCRIPTION:
URL:https://www.redeemerlutheranpensacola.com/event/mens-breakfast-bible-study-the-gathering-28
CATEGORIES:Church Events
END:VEVENT
END:VCALENDAR