BEGIN:VCALENDAR
VERSION:2.0
PRODID:-//Redeemer Lutheran Church - Pensacola - ECPv6.15.17.1//NONSGML v1.0//EN
CALSCALE:GREGORIAN
METHOD:PUBLISH
X-ORIGINAL-URL:https://www.redeemerlutheranpensacola.com
X-WR-CALDESC:Events for Redeemer Lutheran Church - Pensacola
REFRESH-INTERVAL;VALUE=DURATION:PT1H
X-Robots-Tag:noindex
X-PUBLISHED-TTL:PT1H
BEGIN:VTIMEZONE
TZID:America/Chicago
BEGIN:DAYLIGHT
TZOFFSETFROM:-0600
TZOFFSETTO:-0500
TZNAME:CDT
DTSTART:20240310T080000
END:DAYLIGHT
BEGIN:STANDARD
TZOFFSETFROM:-0500
TZOFFSETTO:-0600
TZNAME:CST
DTSTART:20241103T070000
END:STANDARD
BEGIN:DAYLIGHT
TZOFFSETFROM:-0600
TZOFFSETTO:-0500
TZNAME:CDT
DTSTART:20250309T080000
END:DAYLIGHT
BEGIN:STANDARD
TZOFFSETFROM:-0500
TZOFFSETTO:-0600
TZNAME:CST
DTSTART:20251102T070000
END:STANDARD
BEGIN:DAYLIGHT
TZOFFSETFROM:-0600
TZOFFSETTO:-0500
TZNAME:CDT
DTSTART:20260308T080000
END:DAYLIGHT
BEGIN:STANDARD
TZOFFSETFROM:-0500
TZOFFSETTO:-0600
TZNAME:CST
DTSTART:20261101T070000
END:STANDARD
END:VTIMEZONE
BEGIN:VEVENT
DTSTART;TZID=America/Chicago:20251012T081500
DTEND;TZID=America/Chicago:20251012T081500
DTSTAMP:20260419T092021
CREATED:20250916T054736Z
LAST-MODIFIED:20250916T054736Z
UID:10000043-1760256900-1760256900@www.redeemerlutheranpensacola.com
SUMMARY:Adult Bible Studies & Children's Sunday School
DESCRIPTION:
URL:https://www.redeemerlutheranpensacola.com/event/adult-bible-studies-childrens-sunday-school-4
CATEGORIES:Church Events
END:VEVENT
BEGIN:VEVENT
DTSTART;TZID=America/Chicago:20251012T093000
DTEND;TZID=America/Chicago:20251012T093000
DTSTAMP:20260419T092021
CREATED:20250916T054753Z
LAST-MODIFIED:20250916T054753Z
UID:10000044-1760261400-1760261400@www.redeemerlutheranpensacola.com
SUMMARY:Sunday Worship w/ Little Lambs singing
DESCRIPTION:
URL:https://www.redeemerlutheranpensacola.com/event/sunday-worship-w-little-lambs-singing
LOCATION:Redeemer Lutheran Church and School\, 333 Commerce St.\, Pensacola\, FL\, 32507\, United States
CATEGORIES:Church Events
END:VEVENT
BEGIN:VEVENT
DTSTART;TZID=America/Chicago:20251012T110000
DTEND;TZID=America/Chicago:20251012T140000
DTSTAMP:20260419T092021
CREATED:20250916T054753Z
LAST-MODIFIED:20250916T054753Z
UID:10000045-1760266800-1760277600@www.redeemerlutheranpensacola.com
SUMMARY:Camp Dixie Chicken Dinner
DESCRIPTION:
URL:https://www.redeemerlutheranpensacola.com/event/camp-dixie-chicken-dinner
LOCATION:Camp Dixie\, 29711 Josephine Drive\, Elberta\, AL\, 36530\, United States
CATEGORIES:Church Events
END:VEVENT
END:VCALENDAR