BEGIN:VCALENDAR
VERSION:2.0
PRODID:-//Redeemer Lutheran Church - Pensacola - ECPv6.15.17.1//NONSGML v1.0//EN
CALSCALE:GREGORIAN
METHOD:PUBLISH
X-ORIGINAL-URL:https://www.redeemerlutheranpensacola.com
X-WR-CALDESC:Events for Redeemer Lutheran Church - Pensacola
REFRESH-INTERVAL;VALUE=DURATION:PT1H
X-Robots-Tag:noindex
X-PUBLISHED-TTL:PT1H
BEGIN:VTIMEZONE
TZID:America/Chicago
BEGIN:DAYLIGHT
TZOFFSETFROM:-0600
TZOFFSETTO:-0500
TZNAME:CDT
DTSTART:20240310T080000
END:DAYLIGHT
BEGIN:STANDARD
TZOFFSETFROM:-0500
TZOFFSETTO:-0600
TZNAME:CST
DTSTART:20241103T070000
END:STANDARD
BEGIN:DAYLIGHT
TZOFFSETFROM:-0600
TZOFFSETTO:-0500
TZNAME:CDT
DTSTART:20250309T080000
END:DAYLIGHT
BEGIN:STANDARD
TZOFFSETFROM:-0500
TZOFFSETTO:-0600
TZNAME:CST
DTSTART:20251102T070000
END:STANDARD
BEGIN:DAYLIGHT
TZOFFSETFROM:-0600
TZOFFSETTO:-0500
TZNAME:CDT
DTSTART:20260308T080000
END:DAYLIGHT
BEGIN:STANDARD
TZOFFSETFROM:-0500
TZOFFSETTO:-0600
TZNAME:CST
DTSTART:20261101T070000
END:STANDARD
END:VTIMEZONE
BEGIN:VEVENT
DTSTART;TZID=America/Chicago:20251005T081500
DTEND;TZID=America/Chicago:20251005T081500
DTSTAMP:20260419T090651
CREATED:20250916T054704Z
LAST-MODIFIED:20250916T054704Z
UID:10000032-1759652100-1759652100@www.redeemerlutheranpensacola.com
SUMMARY:Adult Bible Studies & Children's Sunday School
DESCRIPTION:
URL:https://www.redeemerlutheranpensacola.com/event/adult-bible-studies-childrens-sunday-school-3
CATEGORIES:Church Events
END:VEVENT
BEGIN:VEVENT
DTSTART;TZID=America/Chicago:20251005T093000
DTEND;TZID=America/Chicago:20251005T093000
DTSTAMP:20260419T090651
CREATED:20250916T054705Z
LAST-MODIFIED:20250916T054705Z
UID:10000033-1759656600-1759656600@www.redeemerlutheranpensacola.com
SUMMARY:Sunday Worship
DESCRIPTION:
URL:https://www.redeemerlutheranpensacola.com/event/sunday-worship-3
LOCATION:Redeemer Lutheran Church and School\, 333 Commerce St.\, Pensacola\, FL\, 32507\, United States
CATEGORIES:Church Events
END:VEVENT
BEGIN:VEVENT
DTSTART;TZID=America/Chicago:20251005T110000
DTEND;TZID=America/Chicago:20251005T190000
DTSTAMP:20260419T090651
CREATED:20250916T054754Z
LAST-MODIFIED:20250930T155002Z
UID:10000046-1759662000-1759690800@www.redeemerlutheranpensacola.com
SUMMARY:Faith Family and Fun: Sun. School Rally
DESCRIPTION:
URL:https://www.redeemerlutheranpensacola.com/event/faith-family-and-fun-sun-school-rally
LOCATION:Redeemer Lutheran Church and School\, 333 Commerce St.\, Pensacola\, FL\, 32507\, United States
CATEGORIES:Church Events
END:VEVENT
END:VCALENDAR