BEGIN:VCALENDAR
VERSION:2.0
PRODID:-//Redeemer Lutheran Church - Pensacola - ECPv6.15.17.1//NONSGML v1.0//EN
CALSCALE:GREGORIAN
METHOD:PUBLISH
X-WR-CALNAME:Redeemer Lutheran Church - Pensacola
X-ORIGINAL-URL:https://www.redeemerlutheranpensacola.com
X-WR-CALDESC:Events for Redeemer Lutheran Church - Pensacola
REFRESH-INTERVAL;VALUE=DURATION:PT1H
X-Robots-Tag:noindex
X-PUBLISHED-TTL:PT1H
BEGIN:VTIMEZONE
TZID:America/Chicago
BEGIN:DAYLIGHT
TZOFFSETFROM:-0600
TZOFFSETTO:-0500
TZNAME:CDT
DTSTART:20240310T080000
END:DAYLIGHT
BEGIN:STANDARD
TZOFFSETFROM:-0500
TZOFFSETTO:-0600
TZNAME:CST
DTSTART:20241103T070000
END:STANDARD
BEGIN:DAYLIGHT
TZOFFSETFROM:-0600
TZOFFSETTO:-0500
TZNAME:CDT
DTSTART:20250309T080000
END:DAYLIGHT
BEGIN:STANDARD
TZOFFSETFROM:-0500
TZOFFSETTO:-0600
TZNAME:CST
DTSTART:20251102T070000
END:STANDARD
BEGIN:DAYLIGHT
TZOFFSETFROM:-0600
TZOFFSETTO:-0500
TZNAME:CDT
DTSTART:20260308T080000
END:DAYLIGHT
BEGIN:STANDARD
TZOFFSETFROM:-0500
TZOFFSETTO:-0600
TZNAME:CST
DTSTART:20261101T070000
END:STANDARD
END:VTIMEZONE
BEGIN:VEVENT
DTSTART;TZID=America/Chicago:20250922T080000
DTEND;TZID=America/Chicago:20250922T090000
DTSTAMP:20260419T121658
CREATED:20250908T204943Z
LAST-MODIFIED:20250908T204943Z
UID:10000001-1758528000-1758531600@www.redeemerlutheranpensacola.com
SUMMARY:Sample Event
DESCRIPTION:
URL:https://www.redeemerlutheranpensacola.com/event/sample-event
END:VEVENT
BEGIN:VEVENT
DTSTART;TZID=America/Chicago:20250922T110000
DTEND;TZID=America/Chicago:20250922T120000
DTSTAMP:20260419T121658
CREATED:20250916T054239Z
LAST-MODIFIED:20250916T054239Z
UID:10000017-1758538800-1758542400@www.redeemerlutheranpensacola.com
SUMMARY:Geometry in AH
DESCRIPTION:
URL:https://www.redeemerlutheranpensacola.com/event/geometry-in-ah-4
LOCATION:Redeemer Lutheran Church and School\, 333 Commerce St.\, Pensacola\, FL\, 32507\, United States
CATEGORIES:School Events
END:VEVENT
BEGIN:VEVENT
DTSTART;TZID=America/Chicago:20250922T151500
DTEND;TZID=America/Chicago:20250922T154500
DTSTAMP:20260419T121658
CREATED:20250916T054240Z
LAST-MODIFIED:20250916T054240Z
UID:10000018-1758554100-1758555900@www.redeemerlutheranpensacola.com
SUMMARY:Little Lambs
DESCRIPTION:
URL:https://www.redeemerlutheranpensacola.com/event/little-lambs-2
LOCATION:Redeemer Lutheran Church and School\, 333 Commerce St.\, Pensacola\, FL\, 32507\, United States
CATEGORIES:Church Events
END:VEVENT
END:VCALENDAR